Workbook

Sheet 收支预算总表
A2: 收支预算总表
A3: 填报单位:[403]兴国县卫生健康委员会 , [403001]兴国县卫生健康委员会 , [403002]兴国县卫生健康综合监督执法局 , [403003]兴国县疾病预防控制中心 , [403004]兴国县卫生健康服务中心 , [403005]兴国县计划生育协会 , [403006]兴国县中等卫生职业技术学校 , [403007]兴国县中医院 , [403008]兴国县人民医院 , [403009]兴国县结核病防治所 , [403010]兴国县皮肤病性病防治所 , [403011]兴国县妇幼保健计划生育服务中心 , [403012]兴国县潋江镇卫生院 , [403013]兴国县长冈乡中心卫生院 , [403014]兴国县高兴镇中心卫生院 , [403015]兴国县江背镇卫生院 , [403016]兴国县良村镇卫生院 , [403017]兴国县龙口镇卫生院 , [403018]兴国县梅窖镇卫生院 , [403019]兴国县鼎龙乡卫生院 , [403020]兴国县古龙岗镇中心卫生院 , [403021]兴国县南坑乡卫生院 , [403022]兴国县方太乡卫生院 , [403023]兴国县城岗镇中心卫生院 , [403024]兴国县枫边乡卫生院 , [403025]兴国县崇贤乡卫生院 , [403026]兴国县茶园乡卫生院 , [403027]兴国县隆坪乡卫生院 , [403028]兴国县均村乡中心卫生院 , [403029]兴国县永丰镇卫生院 , [403030]兴国县埠头乡卫生院 , [403031]兴国县社富乡中心卫生院 , [403032]兴国县杰村乡卫生院 , [403033]兴国县兴莲乡卫生院 , [403034]兴国县东村乡卫生院 , [403035]兴国县樟木乡卫生院 , [403036]兴国县兴江乡卫生院 | D3: 单位：万元
A4: 收 入 | C4: 支出
A5: 项目 | B5: 预算数 | C5: 项目(按支出功能科目类级) | D5: 预算数
A6: 一、财政拨款收入 | B6: =IF(ISBLANK(SUM(B7,B8,B9))," ",SUM(B7,B8,B9)) -> 14244.215 | C6: =IF(ISBLANK('支出总表（引用）'!A8)," ",'支出总表（引用）'!A8) -> 教育支出 | D6: =IF(ISBLANK('支出总表（引用）'!B8)," ",'支出总表（引用）'!B8) -> 930.4422
A7: （一）一般公共预算收入 | B7: 14244.215 | C7: =IF(ISBLANK('支出总表（引用）'!A9)," ",'支出总表（引用）'!A9) -> 社会保障和就业支出 | D7: =IF(ISBLANK('支出总表（引用）'!B9)," ",'支出总表（引用）'!B9) -> 1469.4972
A8: （二）政府性基金预算收入 | C8: =IF(ISBLANK('支出总表（引用）'!A10)," ",'支出总表（引用）'!A10) -> 卫生健康支出 | D8: =IF(ISBLANK('支出总表（引用）'!B10)," ",'支出总表（引用）'!B10) -> 167412.31
A9: （三）国有资本经营预算收入 | C9: =IF(ISBLANK('支出总表（引用）'!A11)," ",'支出总表（引用）'!A11) -> 援助其他地区支出 | D9: =IF(ISBLANK('支出总表（引用）'!B11)," ",'支出总表（引用）'!B11) -> 133.0269
A10: 二、教育收费资金收入 | C10: =IF(ISBLANK('支出总表（引用）'!A12)," ",'支出总表（引用）'!A12) -> 住房保障支出 | D10: =IF(ISBLANK('支出总表（引用）'!B12)," ",'支出总表（引用）'!B12) -> 264.7024
A11: 三、事业收入 | B11: 154654.92 | C11: =IF(ISBLANK('支出总表（引用）'!A13)," ",'支出总表（引用）'!A13) -> 其他支出 | D11: =IF(ISBLANK('支出总表（引用）'!B13)," ",'支出总表（引用）'!B13) -> 13208.734
A12: 四、事业单位经营收入 | C12: =IF(ISBLANK('支出总表（引用）'!A14)," ",'支出总表（引用）'!A14) | D12: =IF(ISBLANK('支出总表（引用）'!B14)," ",'支出总表（引用）'!B14)
A13: 五、附属单位上缴收入 | C13: =IF(ISBLANK('支出总表（引用）'!A15)," ",'支出总表（引用）'!A15) | D13: =IF(ISBLANK('支出总表（引用）'!B15)," ",'支出总表（引用）'!B15)
A14: 六、上级补助收入 | C14: =IF(ISBLANK('支出总表（引用）'!A16)," ",'支出总表（引用）'!A16) | D14: =IF(ISBLANK('支出总表（引用）'!B16)," ",'支出总表（引用）'!B16)
A15: 七、其他收入 | B15: 14519.586 | C15: =IF(ISBLANK('支出总表（引用）'!A17)," ",'支出总表（引用）'!A17) | D15: =IF(ISBLANK('支出总表（引用）'!B17)," ",'支出总表（引用）'!B17)
C16: =IF(ISBLANK('支出总表（引用）'!A18)," ",'支出总表（引用）'!A18) | D16: =IF(ISBLANK('支出总表（引用）'!B18)," ",'支出总表（引用）'!B18)
C17: =IF(ISBLANK('支出总表（引用）'!A19)," ",'支出总表（引用）'!A19) | D17: =IF(ISBLANK('支出总表（引用）'!B19)," ",'支出总表（引用）'!B19)
C18: =IF(ISBLANK('支出总表（引用）'!A20)," ",'支出总表（引用）'!A20) | D18: =IF(ISBLANK('支出总表（引用）'!B20)," ",'支出总表（引用）'!B20)
C19: =IF(ISBLANK('支出总表（引用）'!A21)," ",'支出总表（引用）'!A21) | D19: =IF(ISBLANK('支出总表（引用）'!B21)," ",'支出总表（引用）'!B21)
C20: =IF(ISBLANK('支出总表（引用）'!A22)," ",'支出总表（引用）'!A22) | D20: =IF(ISBLANK('支出总表（引用）'!B22)," ",'支出总表（引用）'!B22)
C21: =IF(ISBLANK('支出总表（引用）'!A23)," ",'支出总表（引用）'!A23) | D21: =IF(ISBLANK('支出总表（引用）'!B23)," ",'支出总表（引用）'!B23)
C22: =IF(ISBLANK('支出总表（引用）'!A24)," ",'支出总表（引用）'!A24) | D22: =IF(ISBLANK('支出总表（引用）'!B24)," ",'支出总表（引用）'!B24)
C23: =IF(ISBLANK('支出总表（引用）'!A25)," ",'支出总表（引用）'!A25) | D23: =IF(ISBLANK('支出总表（引用）'!B25)," ",'支出总表（引用）'!B25)
C24: =IF(ISBLANK('支出总表（引用）'!A26)," ",'支出总表（引用）'!A26) | D24: =IF(ISBLANK('支出总表（引用）'!B26)," ",'支出总表（引用）'!B26)
C25: =IF(ISBLANK('支出总表（引用）'!A27)," ",'支出总表（引用）'!A27) | D25: =IF(ISBLANK('支出总表（引用）'!B27)," ",'支出总表（引用）'!B27)
C26: =IF(ISBLANK('支出总表（引用）'!A28)," ",'支出总表（引用）'!A28) | D26: =IF(ISBLANK('支出总表（引用）'!B28)," ",'支出总表（引用）'!B28)
C27: =IF(ISBLANK('支出总表（引用）'!A29)," ",'支出总表（引用）'!A29) | D27: =IF(ISBLANK('支出总表（引用）'!B29)," ",'支出总表（引用）'!B29)
... C47: =IF(ISBLANK('支出总表（引用）'!A49)," ",'支出总表（引用）'!A49) | D47: =IF(ISBLANK('支出总表（引用）'!B49)," ",'支出总表（引用）'!B49)
A49: 本年收入合计 | B49: 183418.72 | C49: 本年支出合计 | D49: =IF(ISBLANK('支出总表（引用）'!B7)," ",'支出总表（引用）'!B7) -> 183418.72
A50: 八、使用非财政拨款结余 | C50: 结转下年 | D50: =IF(ISBLANK('支出总表（引用）'!C7)," ",'支出总表（引用）'!C7)
A51: 九、上年结转（结余）
A53: 收入总计 | B53: 183418.72 | C53: 支出总计 | D53: =B53 -> 183418.72

Sheet 部门收入总表
A2: 部门收入总表
A3: [403]兴国县卫生健康委员会 , [403001]兴国县卫生健康委员会 , [403002]兴国县卫生健康综合监督执法局 , [403003]兴国县疾病预防控制中心 , [403004]兴国县卫生健康服务中心 , [403005]兴国县计划生育协会 , [403006]兴国县中等卫生职业技术学校 , [403007]兴国县中医院 , [403008]兴国县人民医院 , [403009]兴国县结核病防治所 , [403010]兴国县皮肤病性病防治所 , [403011]兴国县妇幼保健计划生育服务中心 , [403012]兴国县潋江镇卫生院 , [403013]兴国县长冈乡中心卫生院 , [403014]兴国县高兴镇中心卫生院 , [403015]兴国县江背镇卫生院 , [403016]兴国县良村镇卫生院 , [403017]兴国县龙口镇卫生院 , [403018]兴国县梅窖镇卫生院 , [403019]兴国县鼎龙乡卫生院 , [403020]兴国县古龙岗镇中心卫生院 , [403021]兴国县南坑乡卫生院 , [403022]兴国县方太乡卫生院 , [403023]兴国县城岗镇中心卫生院 , [403024]兴国县枫边乡卫生院 , [403025]兴国县崇贤乡卫生院 , [403026]兴国县茶园乡卫生院 , [403027]兴国县隆坪乡卫生院 , [403028]兴国县均村乡中心卫生院 , [403029]兴国县永丰镇卫生院 , [403030]兴国县埠头乡卫生院 , [403031]兴国县社富乡中心卫生院 , [403032]兴国县杰村乡卫生院 , [403033]兴国县兴莲乡卫生院 , [403034]兴国县东村乡卫生院 , [403035]兴国县樟木乡卫生院 , [403036]兴国县兴江乡卫生院 | O3: 单位：万元
A4: 功能科目编码 | B4: 功能科目名称 | C4: 合计 | D4: 上年结转 | E4: 财政拨款 | I4: 教育收费资金收入 | J4: 事业收入 | K4: 事业单位经营收入 | L4: 附属单位上缴收入 | M4: 上级补助收入 | N4: 其他收入 | O4: 使用非财政拨款结余
E5: 小计 | F5: 一般公共预算拨款收入 | G5: 政府性基金预算拨款收入 | H5: 国有资本经营预算收入
A6: ** | B6: ** | C6: 1 | D6: =C6+1 -> 2 | E6: =D6+1 -> 3 | F6: =E6+1 -> 4 | G6: =F6+1 -> 5 | H6: 2 | I6: =H6+1 -> 3 | J6: =I6+1 -> 4 | K6: =J6+1 -> 5 | L6: =K6+1 -> 6 | M6: =L6+1 -> 7 | N6: =M6+1 -> 8 | O6: =N6+1 -> 9
B7: 合计 | C7: 183418.72 | E7: 14244.215 | F7: 14244.215 | J7: 154654.92 | N7: 14519.586
A8: 205 | B8: 教育支出 | C8: 930.4422 | E8: 119.631 | F8: 119.631 | J8: 65 | N8: 745.8112
A9: 03 | B9: 职业教育 | C9: 930.4422 | E9: 119.631 | F9: 119.631 | J9: 65 | N9: 745.8112
A10: 2050302 | B10: 中等职业教育 | C10: 930.4422 | E10: 119.631 | F10: 119.631 | J10: 65 | N10: 745.8112
A11: 208 | B11: 社会保障和就业支出 | C11: 4123.6194 | E11: 1445.4381 | F11: 1445.4381 | J11: 2678.1813
A12: 05 | B12: 行政事业单位养老支出 | C12: 4045.0342 | E12: 1435.4277 | F12: 1435.4277 | J12: 2609.6065
A13: 2080505 | B13: 机关事业单位基本养老保险缴费支出 | C13: 3059.7834 | E13: 1129.0491 | F13: 1129.0491 | J13: 1930.7343
A14: 2080506 | B14: 机关事业单位职业年金缴费支出 | C14: 985.2508 | E14: 306.3786 | F14: 306.3786 | J14: 678.8722
A15: 08 | B15: 抚恤 | C15: 13.5955 | J15: 13.5955
A16: 2080801 | B16: 死亡抚恤 | C16: 13.5955 | J16: 13.5955
A17: 99 | B17: 其他社会保障和就业支出 | C17: 64.9897 | E17: 10.0104 | F17: 10.0104 | J17: 54.9793
A18: 2089999 | B18: 其他社会保障和就业支出 | C18: 64.9897 | E18: 10.0104 | F18: 10.0104 | J18: 54.9793
A19: 210 | B19: 卫生健康支出 | C19: 162802.01 | E19: 12399.443 | F19: 12399.443 | J19: 149453.53 | N19: 949.0426
A20: 01 | B20: 卫生健康管理事务 | C20: 419.3387 | E20: 419.3387 | F20: 419.3387
A21: 2100101 | B21: 行政运行 | C21: 419.3387 | E21: 419.3387 | F21: 419.3387
A22: 02 | B22: 公立医院 | C22: 121575.04 | E22: 3447.4017 | F22: 3447.4017 | J22: 118127.64
A23: 2100201 | B23: 综合医院 | C23: 83671.829 | E23: 1948.4971 | F23: 1948.4971 | J23: 81723.332
A24: 2100202 | B24: 中医（民族）医院 | C24: 24327.123 | E24: 723.2822 | F24: 723.2822 | J24: 23603.841
A25: 2100206 | B25: 妇幼保健医院 | C25: 13434.888 | E25: 634.4224 | F25: 634.4224 | J25: 12800.465
A26: 2100299 | B26: 其他公立医院支出 | C26: 141.2 | E26: 141.2 | F26: 141.2
A27: 03 | B27: 基层医疗卫生机构 | C27: 33755.476 | E27: 4794.2576 | F27: 4794.2576 | J27: 28961.219
A28: 2100302 | B28: 乡镇卫生院 | C28: 33502.796 | E28: 4541.5776 | F28: 4541.5776 | J28: 28961.219
A29: 2100399 | B29: 其他基层医疗卫生机构支出 | C29: 252.68 | E29: 252.68 | F29: 252.68
A30: 04 | B30: 公共卫生 | C30: 4328.6906 | E30: 1721.3714 | F30: 1721.3714 | J30: 1658.2766 | N30: 949.0426
A31: 2100401 | B31: 疾病预防控制机构 | C31: 3406.0432 | E31: 798.724 | F31: 798.724 | J31: 1658.2766 | N31: 949.0426
A32: 2100402 | B32: 卫生监督机构 | C32: 198.3879 | E32: 198.3879 | F32: 198.3879
A33: 2100403 | B33: 妇幼保健机构 | C33: 121.51 | E33: 121.51 | F33: 121.51
A34: 2100407 | B34: 其他专业公共卫生机构 | C34: 70.9095 | E34: 70.9095 | F34: 70.9095
A35: 2100408 | B35: 基本公共卫生服务 | C35: 240.31 | E35: 240.31 | F35: 240.31
A36: 2100409 | B36: 重大公共卫生服务 | C36: 151.13 | E36: 151.13 | F36: 151.13
A37: 2100499 | B37: 其他公共卫生支出 | C37: 140.4 | E37: 140.4 | F37: 140.4
A38: 07 | B38: 计划生育事务 | C38: 1308.1881 | E38: 1308.1881 | F38: 1308.1881
A39: 2100717 | B39: 计划生育服务 | C39: 47.2452 | E39: 47.2452 | F39: 47.2452
A40: 2100799 | B40: 其他计划生育事务支出 | C40: 1260.9429 | E40: 1260.9429 | F40: 1260.9429
A41: 11 | B41: 行政事业单位医疗 | C41: 1415.2774 | E41: 708.8856 | F41: 708.8856 | J41: 706.3918
...

Sheet 部门支出总表
A2: 部门支出总表
A3: 填报单位[403]兴国县卫生健康委员会 , [403001]兴国县卫生健康委员会 , [403002]兴国县卫生健康综合监督执法局 , [403003]兴国县疾病预防控制中心 , [403004]兴国县卫生健康服务中心 , [403005]兴国县计划生育协会 , [403006]兴国县中等卫生职业技术学校 , [403007]兴国县中医院 , [403008]兴国县人民医院 , [403009]兴国县结核病防治所 , [403010]兴国县皮肤病性病防治所 , [403011]兴国县妇幼保健计划生育服务中心 , [403012]兴国县潋江镇卫生院 , [403013]兴国县长冈乡中心卫生院 , [403014]兴国县高兴镇中心卫生院 , [403015]兴国县江背镇卫生院 , [403016]兴国县良村镇卫生院 , [403017]兴国县龙口镇卫生院 , [403018]兴国县梅窖镇卫生院 , [403019]兴国县鼎龙乡卫生院 , [403020]兴国县古龙岗镇中心卫生院 , [403021]兴国县南坑乡卫生院 , [403022]兴国县方太乡卫生院 , [403023]兴国县城岗镇中心卫生院 , [403024]兴国县枫边乡卫生院 , [403025]兴国县崇贤乡卫生院 , [403026]兴国县茶园乡卫生院 , [403027]兴国县隆坪乡卫生院 , [403028]兴国县均村乡中心卫生院 , [403029]兴国县永丰镇卫生院 , [403030]兴国县埠头乡卫生院 , [403031]兴国县社富乡中心卫生院 , [403032]兴国县杰村乡卫生院 , [403033]兴国县兴莲乡卫生院 , [403034]兴国县东村乡卫生院 , [403035]兴国县樟木乡卫生院 , [403036]兴国县兴江乡卫生院 | E3: 单位：万元
A4: 支出功能分类科目 | C4: 合计 | D4: 基本支出 | E4: 项目支出
A5: 科目编码 | B5: 科目名称
A6: ** | B6: ** | C6: 1 | D6: =C6+1 -> 2 | E6: =D6+1 -> 3
B7: 合计 | C7: 183418.72 | D7: 167133.37 | E7: 16285.35
A8: 205 | B8: 教育支出 | C8: 930.4422 | D8: 515.4422 | E8: 415
A9: 03 | B9: 职业教育 | C9: 930.4422 | D9: 515.4422 | E9: 415
A10: 2050302 | B10: 中等职业教育 | C10: 930.4422 | D10: 515.4422 | E10: 415
A11: 208 | B11: 社会保障和就业支出 | C11: 1469.4972 | D11: 1469.4972
A12: 05 | B12: 行政事业单位养老支出 | C12: 1445.6713 | D12: 1445.6713
A13: 2080505 | B13: 机关事业单位基本养老保险缴费支出 | C13: 1135.5066 | D13: 1135.5066
A14: 2080506 | B14: 机关事业单位职业年金缴费支出 | C14: 310.1647 | D14: 310.1647
A15: 08 | B15: 抚恤 | C15: 13.8155 | D15: 13.8155
A16: 2080801 | B16: 死亡抚恤 | C16: 13.8155 | D16: 13.8155
A17: 99 | B17: 其他社会保障和就业支出 | C17: 10.0104 | D17: 10.0104
A18: 2089999 | B18: 其他社会保障和就业支出 | C18: 10.0104 | D18: 10.0104
A19: 210 | B19: 卫生健康支出 | C19: 167412.31 | D19: 163451.96 | E19: 3960.35
A20: 01 | B20: 卫生健康管理事务 | C20: 419.3387 | D20: 419.3387
A21: 2100101 | B21: 行政运行 | C21: 419.3387 | D21: 419.3387
A22: 02 | B22: 公立医院 | C22: 125419.38 | D22: 124335.98 | E22: 1083.4
A23: 2100201 | B23: 综合医院 | C23: 86399.985 | D23: 85772.886 | E23: 627.1
A24: 2100202 | B24: 中医（民族）医院 | C24: 25023.427 | D24: 24810.527 | E24: 212.9
A25: 2100206 | B25: 妇幼保健医院 | C25: 13854.765 | D25: 13752.565 | E25: 102.2
A26: 2100299 | B26: 其他公立医院支出 | C26: 141.2 | E26: 141.2
A27: 03 | B27: 基层医疗卫生机构 | C27: 35193.588 | D27: 34490.908 | E27: 702.68
A28: 2100302 | B28: 乡镇卫生院 | C28: 34940.908 | D28: 34490.908 | E28: 450
A29: 2100399 | B29: 其他基层医疗卫生机构支出 | C29: 252.68 | E29: 252.68
A30: 04 | B30: 公共卫生 | C30: 4360.0811 | D30: 3385.8111 | E30: 974.27
A31: 2100401 | B31: 疾病预防控制机构 | C31: 3437.4337 | D31: 3186.5137 | E31: 250.92
A32: 2100402 | B32: 卫生监督机构 | C32: 198.3879 | D32: 128.3879 | E32: 70
A33: 2100403 | B33: 妇幼保健机构 | C33: 121.51 | E33: 121.51
A34: 2100407 | B34: 其他专业公共卫生机构 | C34: 70.9095 | D34: 70.9095
A35: 2100408 | B35: 基本公共卫生服务 | C35: 240.31 | E35: 240.31
A36: 2100409 | B36: 重大公共卫生服务 | C36: 151.13 | E36: 151.13
A37: 2100499 | B37: 其他公共卫生支出 | C37: 140.4 | E37: 140.4
A38: 07 | B38: 计划生育事务 | C38: 1308.1881 | D38: 108.1881 | E38: 1200
A39: 2100717 | B39: 计划生育服务 | C39: 47.2452 | D39: 47.2452
A40: 2100799 | B40: 其他计划生育事务支出 | C40: 1260.9429 | D40: 60.9429 | E40: 1200
A41: 11 | B41: 行政事业单位医疗 | C41: 711.7404 | D41: 711.7404
...

Sheet 财拨收支总表
A2: 财政拨款收支总表
A3: [403]兴国县卫生健康委员会 , [403001]兴国县卫生健康委员会 , [403002]兴国县卫生健康综合监督执法局 , [403003]兴国县疾病预防控制中心 , [403004]兴国县卫生健康服务中心 , [403005]兴国县计划生育协会 , [403006]兴国县中等卫生职业技术学校 , [403007]兴国县中医院 , [403008]兴国县人民医院 , [403009]兴国县结核病防治所 , [403010]兴国县皮肤病性病防治所 , [403011]兴国县妇幼保健计划生育服务中心 , [403012]兴国县潋江镇卫生院 , [403013]兴国县长冈乡中心卫生院 , [403014]兴国县高兴镇中心卫生院 , [403015]兴国县江背镇卫生院 , [403016]兴国县良村镇卫生院 , [403017]兴国县龙口镇卫生院 , [403018]兴国县梅窖镇卫生院 , [403019]兴国县鼎龙乡卫生院 , [403020]兴国县古龙岗镇中心卫生院 , [403021]兴国县南坑乡卫生院 , [403022]兴国县方太乡卫生院 , [403023]兴国县城岗镇中心卫生院 , [403024]兴国县枫边乡卫生院 , [403025]兴国县崇贤乡卫生院 , [403026]兴国县茶园乡卫生院 , [403027]兴国县隆坪乡卫生院 , [403028]兴国县均村乡中心卫生院 , [403029]兴国县永丰镇卫生院 , [403030]兴国县埠头乡卫生院 , [403031]兴国县社富乡中心卫生院 , [403032]兴国县杰村乡卫生院 , [403033]兴国县兴莲乡卫生院 , [403034]兴国县东村乡卫生院 , [403035]兴国县樟木乡卫生院 , [403036]兴国县兴江乡卫生院 | G3: 单位：万元
A4: 收 入 | C4: 支出
A5: 项目 | B5: 预算数 | C5: 项目(按支出功能科目类级) | D5: 合计 | E5: 一般公共预算支出 | F5: 政府性基金预算支出 | G5: 国有资本经营预算支出
A6: 一、财政拨款收入 | B6: 14244.215 | C6: 一、本年支出 | D6: =IF(ISBLANK('财拨总表（引用）'!B6)," ",'财拨总表（引用）'!B6) -> 14244.215 | E6: =IF(ISBLANK('财拨总表（引用）'!C6)," ",'财拨总表（引用）'!C6) -> 14244.215 | F6: =IF(ISBLANK('财拨总表（引用）'!D6)," ",'财拨总表（引用）'!D6) | G6: =IF(ISBLANK('财拨总表（引用）'!E6)," ",'财拨总表（引用）'!E6)
A7: 一般公共预算拨款收入 | B7: 14244.215 | C7: =IF(ISBLANK('财拨总表（引用）'!A7)," ",'财拨总表（引用）'!A7) -> 教育支出 | D7: =IF(ISBLANK('财拨总表（引用）'!B7)," ",'财拨总表（引用）'!B7) -> 119.631 | E7: =IF(ISBLANK('财拨总表（引用）'!C7)," ",'财拨总表（引用）'!C7) -> 119.631 | F7: =IF(ISBLANK('财拨总表（引用）'!D7)," ",'财拨总表（引用）'!D7)
A8: 政府性基金预算拨款收入 | C8: =IF(ISBLANK('财拨总表（引用）'!A8)," ",'财拨总表（引用）'!A8) -> 社会保障和就业支出 | D8: =IF(ISBLANK('财拨总表（引用）'!B8)," ",'财拨总表（引用）'!B8) -> 1445.4381 | E8: =IF(ISBLANK('财拨总表（引用）'!C8)," ",'财拨总表（引用）'!C8) -> 1445.4381 | F8: =IF(ISBLANK('财拨总表（引用）'!D8)," ",'财拨总表（引用）'!D8)
A9: 国有资本经营预算收入 | C9: =IF(ISBLANK('财拨总表（引用）'!A9)," ",'财拨总表（引用）'!A9) -> 卫生健康支出 | D9: =IF(ISBLANK('财拨总表（引用）'!B9)," ",'财拨总表（引用）'!B9) -> 12399.443 | E9: =IF(ISBLANK('财拨总表（引用）'!C9)," ",'财拨总表（引用）'!C9) -> 12399.443 | F9: =IF(ISBLANK('财拨总表（引用）'!D9)," ",'财拨总表（引用）'!D9)
C10: =IF(ISBLANK('财拨总表（引用）'!A10)," ",'财拨总表（引用）'!A10) -> 援助其他地区支出 | D10: =IF(ISBLANK('财拨总表（引用）'!B10)," ",'财拨总表（引用）'!B10) -> 9 | E10: =IF(ISBLANK('财拨总表（引用）'!C10)," ",'财拨总表（引用）'!C10) -> 9 | F10: =IF(ISBLANK('财拨总表（引用）'!D10)," ",'财拨总表（引用）'!D10)
C11: =IF(ISBLANK('财拨总表（引用）'!A11)," ",'财拨总表（引用）'!A11) -> 住房保障支出 | D11: =IF(ISBLANK('财拨总表（引用）'!B11)," ",'财拨总表（引用）'!B11) -> 239.7024 | E11: =IF(ISBLANK('财拨总表（引用）'!C11)," ",'财拨总表（引用）'!C11) -> 239.7024 | F11: =IF(ISBLANK('财拨总表（引用）'!D11)," ",'财拨总表（引用）'!D11)
C12: =IF(ISBLANK('财拨总表（引用）'!A12)," ",'财拨总表（引用）'!A12) -> 其他支出 | D12: =IF(ISBLANK('财拨总表（引用）'!B12)," ",'财拨总表（引用）'!B12) -> 31 | E12: =IF(ISBLANK('财拨总表（引用）'!C12)," ",'财拨总表（引用）'!C12) -> 31 | F12: =IF(ISBLANK('财拨总表（引用）'!D12)," ",'财拨总表（引用）'!D12)
C13: =IF(ISBLANK('财拨总表（引用）'!A13)," ",'财拨总表（引用）'!A13) | D13: =IF(ISBLANK('财拨总表（引用）'!B13)," ",'财拨总表（引用）'!B13) | E13: =IF(ISBLANK('财拨总表（引用）'!C13)," ",'财拨总表（引用）'!C13) | F13: =IF(ISBLANK('财拨总表（引用）'!D13)," ",'财拨总表（引用）'!D13)
C14: =IF(ISBLANK('财拨总表（引用）'!A14)," ",'财拨总表（引用）'!A14) | D14: =IF(ISBLANK('财拨总表（引用）'!B14)," ",'财拨总表（引用）'!B14) | E14: =IF(ISBLANK('财拨总表（引用）'!C14)," ",'财拨总表（引用）'!C14) | F14: =IF(ISBLANK('财拨总表（引用）'!D14)," ",'财拨总表（引用）'!D14)
C15: =IF(ISBLANK('财拨总表（引用）'!A15)," ",'财拨总表（引用）'!A15) | D15: =IF(ISBLANK('财拨总表（引用）'!B15)," ",'财拨总表（引用）'!B15) | E15: =IF(ISBLANK('财拨总表（引用）'!C15)," ",'财拨总表（引用）'!C15) | F15: =IF(ISBLANK('财拨总表（引用）'!D15)," ",'财拨总表（引用）'!D15)
C16: =IF(ISBLANK('财拨总表（引用）'!A16)," ",'财拨总表（引用）'!A16) | D16: =IF(ISBLANK('财拨总表（引用）'!B16)," ",'财拨总表（引用）'!B16) | E16: =IF(ISBLANK('财拨总表（引用）'!C16)," ",'财拨总表（引用）'!C16) | F16: =IF(ISBLANK('财拨总表（引用）'!D16)," ",'财拨总表（引用）'!D16)
C17: =IF(ISBLANK('财拨总表（引用）'!A17)," ",'财拨总表（引用）'!A17) | D17: =IF(ISBLANK('财拨总表（引用）'!B17)," ",'财拨总表（引用）'!B17) | E17: =IF(ISBLANK('财拨总表（引用）'!C17)," ",'财拨总表（引用）'!C17) | F17: =IF(ISBLANK('财拨总表（引用）'!D17)," ",'财拨总表（引用）'!D17)
C18: =IF(ISBLANK('财拨总表（引用）'!A18)," ",'财拨总表（引用）'!A18) | D18: =IF(ISBLANK('财拨总表（引用）'!B18)," ",'财拨总表（引用）'!B18) | E18: =IF(ISBLANK('财拨总表（引用）'!C18)," ",'财拨总表（引用）'!C18) | F18: =IF(ISBLANK('财拨总表（引用）'!D18)," ",'财拨总表（引用）'!D18)
C19: =IF(ISBLANK('财拨总表（引用）'!A19)," ",'财拨总表（引用）'!A19) | D19: =IF(ISBLANK('财拨总表（引用）'!B19)," ",'财拨总表（引用）'!B19) | E19: =IF(ISBLANK('财拨总表（引用）'!C19)," ",'财拨总表（引用）'!C19) | F19: =IF(ISBLANK('财拨总表（引用）'!D19)," ",'财拨总表（引用）'!D19)
C20: =IF(ISBLANK('财拨总表（引用）'!A20)," ",'财拨总表（引用）'!A20) | D20: =IF(ISBLANK('财拨总表（引用）'!B20)," ",'财拨总表（引用）'!B20) | E20: =IF(ISBLANK('财拨总表（引用）'!C20)," ",'财拨总表（引用）'!C20) | F20: =IF(ISBLANK('财拨总表（引用）'!D20)," ",'财拨总表（引用）'!D20)
C21: =IF(ISBLANK('财拨总表（引用）'!A21)," ",'财拨总表（引用）'!A21) | D21: =IF(ISBLANK('财拨总表（引用）'!B21)," ",'财拨总表（引用）'!B21) | E21: =IF(ISBLANK('财拨总表（引用）'!C21)," ",'财拨总表（引用）'!C21) | F21: =IF(ISBLANK('财拨总表（引用）'!D21)," ",'财拨总表（引用）'!D21)
... C46: =IF(ISBLANK('财拨总表（引用）'!A46)," ",'财拨总表（引用）'!A46) | D46: =IF(ISBLANK('财拨总表（引用）'!B46)," ",'财拨总表（引用）'!B46) | E46: =IF(ISBLANK('财拨总表（引用）'!C46)," ",'财拨总表（引用）'!C46) | F46: =IF(ISBLANK('财拨总表（引用）'!D46)," ",'财拨总表（引用）'!D46)
A47: 二、上年结转 | C47: 二、结转下年 | D47: =IF(ISBLANK('财拨总表（引用）'!B47)," ",'财拨总表（引用）'!B47) | E47: =IF(ISBLANK('财拨总表（引用）'!C47)," ",'财拨总表（引用）'!C47) | F47: =IF(ISBLANK('财拨总表（引用）'!D47)," ",'财拨总表（引用）'!D47)
A48: 一般公共预算拨款结转 | D48: =IF(ISBLANK('财拨总表（引用）'!B48)," ",'财拨总表（引用）'!B48) | E48: =IF(ISBLANK('财拨总表（引用）'!C48)," ",'财拨总表（引用）'!C48) | F48: =IF(ISBLANK('财拨总表（引用）'!D48)," ",'财拨总表（引用）'!D48)
A49: 政府性基金预算拨款结转 | D49: =IF(ISBLANK('财拨总表（引用）'!B49)," ",'财拨总表（引用）'!B49) | E49: =IF(ISBLANK('财拨总表（引用）'!C49)," ",'财拨总表（引用）'!C49) | F49: =IF(ISBLANK('财拨总表（引用）'!D49)," ",'财拨总表（引用）'!D49)
D50: =IF(ISBLANK('财拨总表（引用）'!B50)," ",'财拨总表（引用）'!B50) | E50: =IF(ISBLANK('财拨总表（引用）'!C50)," ",'财拨总表（引用）'!C50) | F50: =IF(ISBLANK('财拨总表（引用）'!D50)," ",'财拨总表（引用）'!D50)
D51: =IF(ISBLANK('财拨总表（引用）'!B51)," ",'财拨总表（引用）'!B51) | E51: =IF(ISBLANK('财拨总表（引用）'!C51)," ",'财拨总表（引用）'!C51) | F51: =IF(ISBLANK('财拨总表（引用）'!D51)," ",'财拨总表（引用）'!D51)
A52: 收入总计 | B52: 14244.215 | C52: 支出总计 | D52: =IF(ISBLANK('财拨总表（引用）'!B6)," ",'财拨总表（引用）'!B6) -> 14244.215 | E52: =IF(ISBLANK('财拨总表（引用）'!C6)," ",'财拨总表（引用）'!C6) -> 14244.215 | F52: =IF(ISBLANK('财拨总表（引用）'!D6)," ",'财拨总表（引用）'!D6) | G52: =IF(ISBLANK('财拨总表（引用）'!E6)," ",'财拨总表（引用）'!E6)

Sheet 一般公共预算支出表
A2: 一般公共预算支出表
A3: [403]兴国县卫生健康委员会 , [403001]兴国县卫生健康委员会 , [403002]兴国县卫生健康综合监督执法局 , [403003]兴国县疾病预防控制中心 , [403004]兴国县卫生健康服务中心 , [403005]兴国县计划生育协会 , [403006]兴国县中等卫生职业技术学校 , [403007]兴国县中医院 , [403008]兴国县人民医院 , [403009]兴国县结核病防治所 , [403010]兴国县皮肤病性病防治所 , [403011]兴国县妇幼保健计划生育服务中心 , [403012]兴国县潋江镇卫生院 , [403013]兴国县长冈乡中心卫生院 , [403014]兴国县高兴镇中心卫生院 , [403015]兴国县江背镇卫生院 , [403016]兴国县良村镇卫生院 , [403017]兴国县龙口镇卫生院 , [403018]兴国县梅窖镇卫生院 , [403019]兴国县鼎龙乡卫生院 , [403020]兴国县古龙岗镇中心卫生院 , [403021]兴国县南坑乡卫生院 , [403022]兴国县方太乡卫生院 , [403023]兴国县城岗镇中心卫生院 , [403024]兴国县枫边乡卫生院 , [403025]兴国县崇贤乡卫生院 , [403026]兴国县茶园乡卫生院 , [403027]兴国县隆坪乡卫生院 , [403028]兴国县均村乡中心卫生院 , [403029]兴国县永丰镇卫生院 , [403030]兴国县埠头乡卫生院 , [403031]兴国县社富乡中心卫生院 , [403032]兴国县杰村乡卫生院 , [403033]兴国县兴莲乡卫生院 , [403034]兴国县东村乡卫生院 , [403035]兴国县樟木乡卫生院 , [403036]兴国县兴江乡卫生院 | E3: 单位：万元
A4: 支出功能分类科目 | C4: 2023年预算数
A5: 科目编码 | B5: 科目名称 | C5: 合计 | D5: 基本支出 | E5: 项目支出
A6: ** | B6: ** | C6: 1 | D6: =C6+1 -> 2 | E6: =D6+1 -> 3
B7: 合计 | C7: 14244.215 | D7: 10268.865 | E7: 3975.35
A8: 205 | B8: 教育支出 | C8: 119.631 | D8: 119.631
A9: 03 | B9: 职业教育 | C9: 119.631 | D9: 119.631
A10: 2050302 | B10: 中等职业教育 | C10: 119.631 | D10: 119.631
A11: 208 | B11: 社会保障和就业支出 | C11: 1445.4381 | D11: 1445.4381
A12: 05 | B12: 行政事业单位养老支出 | C12: 1435.4277 | D12: 1435.4277
A13: 2080505 | B13: 机关事业单位基本养老保险缴费支出 | C13: 1129.0491 | D13: 1129.0491
A14: 2080506 | B14: 机关事业单位职业年金缴费支出 | C14: 306.3786 | D14: 306.3786
A15: 99 | B15: 其他社会保障和就业支出 | C15: 10.0104 | D15: 10.0104
A16: 2089999 | B16: 其他社会保障和就业支出 | C16: 10.0104 | D16: 10.0104
A17: 210 | B17: 卫生健康支出 | C17: 12399.443 | D17: 8439.0931 | E17: 3960.35
A18: 01 | B18: 卫生健康管理事务 | C18: 419.3387 | D18: 419.3387
A19: 2100101 | B19: 行政运行 | C19: 419.3387 | D19: 419.3387
A20: 02 | B20: 公立医院 | C20: 3447.4017 | D20: 2364.0017 | E20: 1083.4
A21: 2100201 | B21: 综合医院 | C21: 1948.4971 | D21: 1321.3971 | E21: 627.1
A22: 2100202 | B22: 中医（民族）医院 | C22: 723.2822 | D22: 510.3822 | E22: 212.9
A23: 2100206 | B23: 妇幼保健医院 | C23: 634.4224 | D23: 532.2224 | E23: 102.2
A24: 2100299 | B24: 其他公立医院支出 | C24: 141.2 | E24: 141.2
A25: 03 | B25: 基层医疗卫生机构 | C25: 4794.2576 | D25: 4091.5776 | E25: 702.68
A26: 2100302 | B26: 乡镇卫生院 | C26: 4541.5776 | D26: 4091.5776 | E26: 450
A27: 2100399 | B27: 其他基层医疗卫生机构支出 | C27: 252.68 | E27: 252.68
A28: 04 | B28: 公共卫生 | C28: 1721.3714 | D28: 747.1014 | E28: 974.27
A29: 2100401 | B29: 疾病预防控制机构 | C29: 798.724 | D29: 547.804 | E29: 250.92
A30: 2100402 | B30: 卫生监督机构 | C30: 198.3879 | D30: 128.3879 | E30: 70
A31: 2100403 | B31: 妇幼保健机构 | C31: 121.51 | E31: 121.51
A32: 2100407 | B32: 其他专业公共卫生机构 | C32: 70.9095 | D32: 70.9095
A33: 2100408 | B33: 基本公共卫生服务 | C33: 240.31 | E33: 240.31
A34: 2100409 | B34: 重大公共卫生服务 | C34: 151.13 | E34: 151.13
A35: 2100499 | B35: 其他公共卫生支出 | C35: 140.4 | E35: 140.4
A36: 07 | B36: 计划生育事务 | C36: 1308.1881 | D36: 108.1881 | E36: 1200
A37: 2100717 | B37: 计划生育服务 | C37: 47.2452 | D37: 47.2452
A38: 2100799 | B38: 其他计划生育事务支出 | C38: 1260.9429 | D38: 60.9429 | E38: 1200
A39: 11 | B39: 行政事业单位医疗 | C39: 708.8856 | D39: 708.8856
A40: 2101101 | B40: 行政单位医疗 | C40: 77.7432 | D40: 77.7432
A41: 2101102 | B41: 事业单位医疗 | C41: 555.7224 | D41: 555.7224
...

Sheet 一般公共预算基本支出表
A2: 一般公共预算基本支出表
A3: [403]兴国县卫生健康委员会 , [403001]兴国县卫生健康委员会 , [403002]兴国县卫生健康综合监督执法局 , [403003]兴国县疾病预防控制中心 , [403004]兴国县卫生健康服务中心 , [403005]兴国县计划生育协会 , [403006]兴国县中等卫生职业技术学校 , [403007]兴国县中医院 , [403008]兴国县人民医院 , [403009]兴国县结核病防治所 , [403010]兴国县皮肤病性病防治所 , [403011]兴国县妇幼保健计划生育服务中心 , [403012]兴国县潋江镇卫生院 , [403013]兴国县长冈乡中心卫生院 , [403014]兴国县高兴镇中心卫生院 , [403015]兴国县江背镇卫生院 , [403016]兴国县良村镇卫生院 , [403017]兴国县龙口镇卫生院 , [403018]兴国县梅窖镇卫生院 , [403019]兴国县鼎龙乡卫生院 , [403020]兴国县古龙岗镇中心卫生院 , [403021]兴国县南坑乡卫生院 , [403022]兴国县方太乡卫生院 , [403023]兴国县城岗镇中心卫生院 , [403024]兴国县枫边乡卫生院 , [403025]兴国县崇贤乡卫生院 , [403026]兴国县茶园乡卫生院 , [403027]兴国县隆坪乡卫生院 , [403028]兴国县均村乡中心卫生院 , [403029]兴国县永丰镇卫生院 , [403030]兴国县埠头乡卫生院 , [403031]兴国县社富乡中心卫生院 , [403032]兴国县杰村乡卫生院 , [403033]兴国县兴莲乡卫生院 , [403034]兴国县东村乡卫生院 , [403035]兴国县樟木乡卫生院 , [403036]兴国县兴江乡卫生院 | E3: 单位：万元
A4: 支出经济分类科目 | C4: 2023年基本支出
A5: 科目编码 | B5: 科目名称 | C5: 合计 | D5: 人员经费 | E5: 公用经费
A6: ** | B6: ** | C6: 1 | D6: =C6+1 -> 2 | E6: =D6+1 -> 3
B7: 合计 | C7: 10268.865 | D7: 10160.829 | E7: 108.036
A8: 301 | B8: 工资福利支出 | C8: 10102.333 | D8: 10102.333
A9: 30101 | B9: 基本工资 | C9: 5577.1551 | D9: 5577.1551
A10: 30102 | B10: 津贴补贴 | C10: 1952.6664 | D10: 1952.6664
A11: 30103 | B11: 奖金 | C11: 82.204 | D11: 82.204
A12: 30106 | B12: 伙食补助费 | C12: 43.7184 | D12: 43.7184
A13: 30107 | B13: 绩效工资 | C13: 25 | D13: 25
A14: 30108 | B14: 机关事业单位基本养老保险缴费 | C14: 1129.0491 | D14: 1129.0491
A15: 30109 | B15: 职业年金缴费 | C15: 306.3786 | D15: 306.3786
A16: 30110 | B16: 职工基本医疗保险缴费 | C16: 633.4656 | D16: 633.4656
A17: 30111 | B17: 公务员医疗补助缴费 | C17: 75.42 | D17: 75.42
A18: 30112 | B18: 其他社会保障缴费 | C18: 37.5738 | D18: 37.5738
A19: 30113 | B19: 住房公积金 | C19: 239.7024 | D19: 239.7024
A20: 302 | B20: 商品和服务支出 | C20: 97.336 | E20: 97.336
A21: 30201 | B21: 办公费 | C21: 24.85 | E21: 24.85
A22: 30217 | B22: 公务接待费 | C22: 30.55 | E22: 30.55
A23: 30229 | B23: 福利费 | C23: 8.832 | E23: 8.832
A24: 30231 | B24: 公务用车运行维护费 | C24: 3.5 | E24: 3.5
A25: 30239 | B25: 其他交通费用 | C25: 29.604 | E25: 29.604
A26: 303 | B26: 对个人和家庭的补助 | C26: 58.4952 | D26: 58.4952
A27: 30305 | B27: 生活补助 | C27: 48.7752 | D27: 48.7752
A28: 30309 | B28: 奖励金 | C28: 9.72 | D28: 9.72
A29: 310 | B29: 资本性支出 | C29: 10.7 | E29: 10.7
A30: 31002 | B30: 办公设备购置 | C30: 10.7 | E30: 10.7

Sheet 财政拨款三公表
E1: 注：若为空表，则为该部门（单位）无“三公”经费支出
A2: 财政拨款“三公”经费支出表
A3: 填报单位[403]兴国县卫生健康委员会 , [403001]兴国县卫生健康委员会 , [403002]兴国县卫生健康综合监督执法局 , [403003]兴国县疾病预防控制中心 , [403004]兴国县卫生健康服务中心 , [403005]兴国县计划生育协会 , [403006]兴国县中等卫生职业技术学校 , [403007]兴国县中医院 , [403008]兴国县人民医院 , [403009]兴国县结核病防治所 , [403010]兴国县皮肤病性病防治所 , [403011]兴国县妇幼保健计划生育服务中心 , [403012]兴国县潋江镇卫生院 , [403013]兴国县长冈乡中心卫生院 , [403014]兴国县高兴镇中心卫生院 , [403015]兴国县江背镇卫生院 , [403016]兴国县良村镇卫生院 , [403017]兴国县龙口镇卫生院 , [403018]兴国县梅窖镇卫生院 , [403019]兴国县鼎龙乡卫生院 , [403020]兴国县古龙岗镇中心卫生院 , [403021]兴国县南坑乡卫生院 , [403022]兴国县方太乡卫生院 , [403023]兴国县城岗镇中心卫生院 , [403024]兴国县枫边乡卫生院 , [403025]兴国县崇贤乡卫生院 , [403026]兴国县茶园乡卫生院 , [403027]兴国县隆坪乡卫生院 , [403028]兴国县均村乡中心卫生院 , [403029]兴国县永丰镇卫生院 , [403030]兴国县埠头乡卫生院 , [403031]兴国县社富乡中心卫生院 , [403032]兴国县杰村乡卫生院 , [403033]兴国县兴莲乡卫生院 , [403034]兴国县东村乡卫生院 , [403035]兴国县樟木乡卫生院 , [403036]兴国县兴江乡卫生院 | G3: 单位：万元
A4: 部门编码 | B4: 部门名称 | C4: 合计 | D4: 因公出国(境)费 | E4: 公务接待费 | F4: 公务用车运行维护费 | G4: 公务用车购置
A6: ** | B6: ** | C6: 1 | D6: 2 | E6: 3 | F6: 4 | G6: 5
A7: 403 | B7: 兴国县卫生健康委员会 | C7: 34.05 | E7: 30.55 | F7: 3.5

Sheet 政府性基金
D1: 注：若为空表，则为该部门（单位）无政府性基金收支
A2: 政府性基金预算支出表
E3: 单位：万元
A4: 支出功能分类科目 | C4: 2023年预算数
A5: 科目编码 | B5: 科目名称 | C5: 合计 | D5: 基本支出 | E5: 项目支出
A6: ** | B6: ** | C6: 1 | D6: =C6+1 -> 2 | E6: =D6+1 -> 3

Sheet 国有资本经营
C1: 注：若为空表，则为该部门（单位）无国有资本经营预算收支
A2: 国有资本经营预算支出表
A3: 填报单位:[403]兴国县卫生健康委员会 , [403001]兴国县卫生健康委员会 , [403002]兴国县卫生健康综合监督执法局 , [403003]兴国县疾病预防控制中心 , [403004]兴国县卫生健康服务中心 , [403005]兴国县计划生育协会 , [403006]兴国县中等卫生职业技术学校 , [403007]兴国县中医院 , [403008]兴国县人民医院 , [403009]兴国县结核病防治所 , [403010]兴国县皮肤病性病防治所 , [403011]兴国县妇幼保健计划生育服务中心 , [403012]兴国县潋江镇卫生院 , [403013]兴国县长冈乡中心卫生院 , [403014]兴国县高兴镇中心卫生院 , [403015]兴国县江背镇卫生院 , [403016]兴国县良村镇卫生院 , [403017]兴国县龙口镇卫生院 , [403018]兴国县梅窖镇卫生院 , [403019]兴国县鼎龙乡卫生院 , [403020]兴国县古龙岗镇中心卫生院 , [403021]兴国县南坑乡卫生院 , [403022]兴国县方太乡卫生院 , [403023]兴国县城岗镇中心卫生院 , [403024]兴国县枫边乡卫生院 , [403025]兴国县崇贤乡卫生院 , [403026]兴国县茶园乡卫生院 , [403027]兴国县隆坪乡卫生院 , [403028]兴国县均村乡中心卫生院 , [403029]兴国县永丰镇卫生院 , [403030]兴国县埠头乡卫生院 , [403031]兴国县社富乡中心卫生院 , [403032]兴国县杰村乡卫生院 , [403033]兴国县兴莲乡卫生院 , [403034]兴国县东村乡卫生院 , [403035]兴国县樟木乡卫生院 , [403036]兴国县兴江乡卫生院 | E3: 单位：万元
A4: 支出功能分类科目 | C4: 2023年预算数
A5: 科目编码 | B5: 科目名称 | C5: 合计 | D5: 基本支出 | E5: 项目支出
A6: ** | B6: ** | C6: 1 | D6: =C6+1 -> 2 | E6: =D6+1 -> 3

Sheet 支出总表（引用）
A2: 支出预算总表
A4: 科目名称 | B4: 合计 | C4: 结转下年
A6: ** | B6: 1 | C6: 2
A7: 合计 | B7: 183418.72
A8: 教育支出 | B8: 930.4422
A9: 社会保障和就业支出 | B9: 1469.4972
A10: 卫生健康支出 | B10: 167412.31
A11: 援助其他地区支出 | B11: 133.0269
A12: 住房保障支出 | B12: 264.7024
A13: 其他支出 | B13: 13208.734

Sheet 财拨总表（引用）
A1: 财政拨款预算表
A3: 科目名称 | B3: 财政拨款 | C3: 一般公共预算支出 | D3: 政府性基金预算支出 | E3: 国有资本经营预算
A5: ** | B5: 1 | C5: 2 | D5: 3 | E5: 4
A6: 合计 | B6: 14244.215 | C6: 14244.215
A7: 教育支出 | B7: 119.631 | C7: 119.631
A8: 社会保障和就业支出 | B8: 1445.4381 | C8: 1445.4381
A9: 卫生健康支出 | B9: 12399.443 | C9: 12399.443
A10: 援助其他地区支出 | B10: 9 | C10: 9
A11: 住房保障支出 | B11: 239.7024 | C11: 239.7024
A12: 其他支出 | B12: 31 | C12: 31
