Workbook

Sheet 发放名单
A1: 兴国县2025年10月城镇低保对象花名册
A2: 乡镇 | B2: 居委会（社区） | C2: 序号 | D2: 户主姓名 | E2: 性别 | F2: 家庭住址 | G2: 家庭人口 | H2: 享受人口 | I2: 是否整户保 | J2: 保障类别 | K2: 档位 | L2: 月保障金额 | M2: 家庭情况 | N2: 备注 | O2: 整户取消 | P2: 人数 | Q2: 一致情况 | R2: 金额 | S2: 一致情况
A3: 龙口镇 | B3: 圩上街一组 | C3: 822 | D3: 周艳艳 | E3: =IF(OR(LEN(#REF!)=15,LEN(#REF!)=18),IF(MOD(MID(#REF!,15,3)*1,2),"男","女"),#N/A) -> #REF! | F3: 龙口镇圩上街一组 | G3: 1 | H3: 1 | I3: =H3=G3 -> TRUE | J3: 非常补 | K3: B | L3: =695*H3 -> 695 | M3: 肢残3级（13年11月改账号） | N3: 2012.09 | O3: =VLOOKUP(#REF!,#REF!,1,FALSE) -> #REF! | P3: =VLOOKUP(#REF!,[2]江西省赣州市兴国县最低生活保障资金发放表!$F:$M,8,FALSE) -> #REF! | Q3: =P3=H3 -> #REF! | R3: =VLOOKUP(#REF!,[2]江西省赣州市兴国县最低生活保障资金发放表!$F:$P,11,FALSE) -> #REF! | S3: =R3=L3 -> #REF!
A4: 龙口镇 | B4: 圩上街三组4号 | C4: 823 | D4: 刘素琼 | E4: =IF(OR(LEN(#REF!)=15,LEN(#REF!)=18),IF(MOD(MID(#REF!,15,3)*1,2),"男","女"),#N/A) -> #REF! | F4: 龙口镇圩上街三组4号 | G4: 5 | H4: 3 | I4: =H4=G4 -> FALSE | J4: 常补 | K4: B | L4: =695*H4 -> 2085 | M4: 精神分裂症 | N4: 2013.06 | O4: =VLOOKUP(#REF!,#REF!,1,FALSE) -> #REF! | P4: =VLOOKUP(#REF!,[2]江西省赣州市兴国县最低生活保障资金发放表!$F:$M,8,FALSE) -> #REF! | Q4: =P4=H4 -> #REF! | R4: =VLOOKUP(#REF!,[2]江西省赣州市兴国县最低生活保障资金发放表!$F:$P,11,FALSE) -> #REF! | S4: =R4=L4 -> #REF!
A5: 龙口镇 | B5: 中岭村委会 | C5: 824 | D5: 邓世平 | E5: =IF(OR(LEN(#REF!)=15,LEN(#REF!)=18),IF(MOD(MID(#REF!,15,3)*1,2),"男","女"),#N/A) -> #REF! | F5: 中岭村委会 | G5: 1 | H5: 1 | I5: 是 | J5: 非常补 | K5: B | L5: =695*H5 -> 695 | M5: 有三兄弟，母亲近80岁了，兄弟都在外发展。本人患有风湿性心脏病，虽多方求医，但收效甚微，花费却不少，05年又腰间盘突出严重，返乡治疗后就再无参加工作，多年来靠亲戚朋友接济过日子，生活困难。 | O5: =VLOOKUP(#REF!,#REF!,1,FALSE) -> #REF! | P5: =VLOOKUP(#REF!,[2]江西省赣州市兴国县最低生活保障资金发放表!$F:$M,8,FALSE) -> #REF! | Q5: =P5=H5 -> #REF! | R5: =VLOOKUP(#REF!,[2]江西省赣州市兴国县最低生活保障资金发放表!$F:$P,11,FALSE) -> #REF! | S5: =R5=L5 -> #REF!

Sheet 家庭成员信息表
A1: 序号 | B1: 县乡 | C1: 行政区划名称 | D1: 户主姓名 | E1: 家庭人口 | F1: 享受人口 | G1: 成员姓名 | H1: 与户主/本人关系 | I1: 性别 | J1: 人员状态 | K1: 救助对象类别 | L1: 整户取消 | M1: 户内调减 | N1: 比对火化 | O1: 比对低保 | P1: 比对特困 | Q1: 比对孤儿等 | R1: 脱贫户 | S1: 监测对象
A2: 1376 | B2: 龙口镇 | C2: 中岭村委会 | D2: 邓世平 | E2: 1 | F2: 1 | G2: 邓世平 | H2: 本人 | I2: =IF(OR(LEN(#REF!)=15,LEN(#REF!)=18),IF(MOD(MID(#REF!,15,3)*1,2),"男","女"),#N/A) -> #REF! | J2: 弱 | K2: 非常补 | L2: =VLOOKUP(#REF!,#REF!,1,FALSE) -> #REF! | M2: =VLOOKUP(#REF!,#REF!,1,FALSE) -> #REF! | N2: =VLOOKUP(#REF!,[1]Sheet2!$C:$C,1,FALSE) -> #REF! | O2: #N/A | P2: #N/A | Q2: #N/A | R2: #N/A | S2: #N/A | T2: =YEAR(TODAY())-MID(#REF!,7,4) -> #REF! | U2: =VLOOKUP(#REF!,发放名单!F:K,9,FALSE) -> #REF! | V2: =MIDB(#REF!,11,2) -> #REF! | W2: =VLOOKUP(#REF!,发放名单!#REF!,2,FALSE) -> #REF! | X2: =VLOOKUP(#REF!,[3]Sheet1!$M:$M,1,FALSE) -> #REF!
A3: 1377 | B3: 龙口镇 | C3: 圩上街一组 | D3: 周艳艳 | E3: 1 | F3: 1 | G3: 周艳艳 | H3: 户主/本人 | I3: =IF(OR(LEN(#REF!)=15,LEN(#REF!)=18),IF(MOD(MID(#REF!,15,3)*1,2),"男","女"),#N/A) -> #REF! | J3: 残疾 | K3: 非常补 | L3: =VLOOKUP(#REF!,#REF!,1,FALSE) -> #REF! | M3: =VLOOKUP(#REF!,#REF!,1,FALSE) -> #REF! | N3: =VLOOKUP(#REF!,[1]Sheet2!$C:$C,1,FALSE) -> #REF! | O3: #N/A | P3: #N/A | Q3: #N/A | R3: #N/A | S3: #N/A | T3: =YEAR(TODAY())-MID(#REF!,7,4) -> #REF! | U3: =VLOOKUP(#REF!,发放名单!F:K,9,FALSE) -> #REF! | V3: =MIDB(#REF!,11,2) -> #REF! | W3: =VLOOKUP(#REF!,发放名单!#REF!,2,FALSE) -> #REF! | X3: =VLOOKUP(#REF!,[3]Sheet1!$M:$M,1,FALSE) -> #REF!
A4: 1378 | B4: 龙口镇 | C4: 圩上街三组4号 | D4: 刘素琼 | E4: 5 | F4: 3 | G4: 刘素琼 | H4: 户主/本人 | I4: =IF(OR(LEN(#REF!)=15,LEN(#REF!)=18),IF(MOD(MID(#REF!,15,3)*1,2),"男","女"),#N/A) -> #REF! | J4: 精神分裂症 | K4: 常补 | L4: =VLOOKUP(#REF!,#REF!,1,FALSE) -> #REF! | M4: =VLOOKUP(#REF!,#REF!,1,FALSE) -> #REF! | N4: =VLOOKUP(#REF!,[1]Sheet2!$C:$C,1,FALSE) -> #REF! | O4: #N/A | P4: #N/A | Q4: #N/A | R4: #N/A | S4: #N/A | T4: =YEAR(TODAY())-MID(#REF!,7,4) -> #REF! | U4: =VLOOKUP(#REF!,发放名单!F:K,9,FALSE) -> #REF! | V4: =MIDB(#REF!,11,2) -> #REF! | W4: =VLOOKUP(#REF!,发放名单!#REF!,2,FALSE) -> #REF! | X4: =VLOOKUP(#REF!,[3]Sheet1!$M:$M,1,FALSE) -> #REF!
A5: 1379 | B5: 龙口镇 | C5: 圩上街三组4号 | D5: 刘素琼 | G5: 林钰琦 | H5: 女儿 | I5: 女 | J5: 健康 | K5: 非常补 | L5: =VLOOKUP(#REF!,#REF!,1,FALSE) -> #REF! | M5: =VLOOKUP(#REF!,#REF!,1,FALSE) -> #REF! | N5: =VLOOKUP(#REF!,[1]Sheet2!$C:$C,1,FALSE) -> #REF! | O5: #N/A | P5: #N/A | Q5: #N/A | R5: #N/A | S5: #N/A | T5: =YEAR(TODAY())-MID(#REF!,7,4) -> #REF! | U5: =VLOOKUP(#REF!,发放名单!F:K,9,FALSE) -> #REF! | V5: =MIDB(#REF!,11,2) -> #REF! | W5: =VLOOKUP(#REF!,发放名单!#REF!,2,FALSE) -> #REF! | X5: =VLOOKUP(#REF!,[3]Sheet1!$M:$M,1,FALSE) -> #REF!
A6: 1380 | B6: 龙口镇 | C6: 圩上街三组4号 | D6: 刘素琼 | G6: 林菁菁 | H6: 女儿 | I6: 女 | J6: 健康 | K6: 非常补 | L6: =VLOOKUP(#REF!,#REF!,1,FALSE) -> #REF! | M6: =VLOOKUP(#REF!,#REF!,1,FALSE) -> #REF! | N6: =VLOOKUP(#REF!,[1]Sheet2!$C:$C,1,FALSE) -> #REF! | O6: #N/A | P6: #N/A | Q6: #N/A | R6: #N/A | S6: #N/A | T6: =YEAR(TODAY())-MID(#REF!,7,4) -> #REF! | U6: =VLOOKUP(#REF!,发放名单!F:K,9,FALSE) -> #REF! | V6: =MIDB(#REF!,11,2) -> #REF! | W6: =VLOOKUP(#REF!,发放名单!#REF!,2,FALSE) -> #REF! | X6: =VLOOKUP(#REF!,[3]Sheet1!$M:$M,1,FALSE) -> #REF!
