Workbook

Sheet 封面
U1: 总计
A3: 2021年部门预算表
F6: 部门名称：
F10: 编制日期：
F13: 编制单位：
A17: 单位负责人签章： | G17: 财务负责人签章： | M17: 制表人签章：

Sheet 收支预算总表
A2: 收支预算总表
A3: 填报单位:169兴国县卫生健康委员会（部门） , 169001兴国县卫生健康委员会 , 169003兴国县疾病预防控制中心 , 169004兴国县卫生计生综合监督执法局 , 169005兴国县人民医院 , 169006兴国县中医院 , 169007兴国县妇幼保健和计划生育服务中心 , 169008兴国县皮肤病性病防治所 , 169010兴国县中等卫生职业技术学校 , 169012兴国县爱国卫生运动委员会办公室 , 169014兴国县肺科医院 , 169015兴国县乡镇卫生院汇总 , 169016潋江卫生院 , 169017长冈卫生院 , 169018鼎龙卫生院 , 169019城岗卫生院 , 169020良村卫生院 , 169021南坑卫生院 , 169022枫边卫生院 , 169023崇贤卫生院 , 169024方太卫生院 , 169025高兴卫生院 , 169026茶园卫生院 , 169027均村卫生院 , 169028永丰卫生院 , 169029隆坪卫生院 , 169030埠头卫生院 , 169031龙口卫生院 , 169032社富卫生院 , 169033杰村卫生院 , 169034江背卫生院 , 169035东村卫生院 , 169036兴莲卫生院 , 169037樟木卫生院 , 169038古龙岗卫生院 , 169039梅窖卫生院 , 169040兴江卫生院 , 169044兴国县计划生育协会 , 169045兴国县老龄工作委员会 | D3: 单位：万元
A4: 收 入 | C4: 支 出
A5: 项目 | B5: 预算数 | C5: 项目(按支出功能科目类级) | D5: 预算数
A6: 一、财政拨款 | B6: 14022.32 | C6: ='支出总表（引用）'!A8 -> 教育支出 | D6: ='支出总表（引用）'!B8 -> 304.9
A7: 一般公共预算拨款收入 | B7: 14022.32 | C7: ='支出总表（引用）'!A9 -> 社会保障和就业支出 | D7: ='支出总表（引用）'!B9 -> 3552.71
A8: 专项收入 | C8: ='支出总表（引用）'!A10 -> 卫生健康支出 | D8: ='支出总表（引用）'!B10 -> 124892.59
A9: 政府性基金预算拨款收入 | C9: ='支出总表（引用）'!A11 -> 住房保障支出 | D9: ='支出总表（引用）'!B11 -> 1574.47
A10: 预算内投资收入 | C10: ='支出总表（引用）'!A12 -> 0 | D10: ='支出总表（引用）'!B12 -> 0
A11: 二、事业收入 | B11: 105462.17 | C11: ='支出总表（引用）'!A13 -> 0 | D11: ='支出总表（引用）'!B13 -> 0
A12: 三、事业单位经营收入 | C12: ='支出总表（引用）'!A14 -> 0 | D12: ='支出总表（引用）'!B14 -> 0
A13: 四、其他收入 | B13: 5905.69 | C13: ='支出总表（引用）'!A15 -> 0 | D13: ='支出总表（引用）'!B15 -> 0
A14: 五、附属单位上缴收入 | C14: ='支出总表（引用）'!A16 -> 0 | D14: ='支出总表（引用）'!B16 -> 0
A15: 六、上级补助收入 | B15: 4909.49 | C15: ='支出总表（引用）'!A17 -> 0 | D15: ='支出总表（引用）'!B17 -> 0
A16: 本年收入合计 | B16: =SUM(B6,B11,B12,B13,B14,B15) -> 130299.67 | C16: 本年支出合计 | D16: ='支出总表（引用）'!B7 -> 130324.67
A17: 七、用事业基金弥补收支差额 | C17: 结转下年
A18: 八、上年结转（结余） | B18: 25
A20: 收入总计 | B20: =SUM(B16,B17,B18) -> 130324.67 | C20: 支出总计 | D20: =B20 -> 130324.67

Sheet 部门收入总表
A2: 部门收入总表
A3: 填报单位:169兴国县卫生健康委员会（部门） , 169001兴国县卫生健康委员会 , 169003兴国县疾病预防控制中心 , 169004兴国县卫生计生综合监督执法局 , 169005兴国县人民医院 , 169006兴国县中医院 , 169007兴国县妇幼保健和计划生育服务中心 , 169008兴国县皮肤病性病防治所 , 169010兴国县中等卫生职业技术学校 , 169012兴国县爱国卫生运动委员会办公室 , 169014兴国县肺科医院 , 169015兴国县乡镇卫生院汇总 , 169016潋江卫生院 , 169017长冈卫生院 , 169018鼎龙卫生院 , 169019城岗卫生院 , 169020良村卫生院 , 169021南坑卫生院 , 169022枫边卫生院 , 169023崇贤卫生院 , 169024方太卫生院 , 169025高兴卫生院 , 169026茶园卫生院 , 169027均村卫生院 , 169028永丰卫生院 , 169029隆坪卫生院 , 169030埠头卫生院 , 169031龙口卫生院 , 169032社富卫生院 , 169033杰村卫生院 , 169034江背卫生院 , 169035东村卫生院 , 169036兴莲卫生院 , 169037樟木卫生院 , 169038古龙岗卫生院 , 169039梅窖卫生院 , 169040兴江卫生院 , 169044兴国县计划生育协会 , 169045兴国县老龄工作委员会 | O3: 单位：万元
A4: 功能科目编码 | B4: 功能科目名称 | C4: 合计 | D4: 上年结转 | E4: 财政拨款 | J4: 事业收入 | K4: 事业单位经营收入 | L4: 其他收入 | M4: 附属单位上缴收入 | N4: 上级补助收入 | O4: 用事业基金弥补收支差额
E5: 小计 | F5: 一般公共预算拨款收入 | G5: 政府性基金预算拨款收入 | H5: 专项收入 | I5: 预算内投资收入
A6: ** | B6: ** | C6: 1 | D6: =C6+1 -> 2 | E6: =D6+1 -> 3 | F6: =E6+1 -> 4 | G6: =F6+1 -> 5 | H6: =G6+1 -> 6 | I6: =H6+1 -> 7 | J6: =I6+1 -> 8 | K6: =J6+1 -> 9 | ... O6: =N6+1 -> 13
B7: 合计 | C7: 130324.67 | D7: 25 | E7: 14022.32 | F7: 14022.32 | J7: 105462.17 | L7: 5905.69 | N7: 4909.49
A8: 205 | B8: 教育支出 | C8: 304.9 | E8: 103.35 | F8: 103.35 | L8: 201.55
A9: 03 | B9: 职业教育 | C9: 304.9 | E9: 103.35 | F9: 103.35 | L9: 201.55
A10: 2050302 | B10: 中等职业教育 | C10: 304.9 | E10: 103.35 | F10: 103.35 | L10: 201.55
A11: 208 | B11: 社会保障和就业支出 | C11: 3552.71 | E11: 1278.39 | F11: 1278.39 | J11: 2274.32
A12: 05 | B12: 行政事业单位养老支出 | C12: 3506.19 | E12: 1233.61 | F12: 1233.61 | J12: 2272.58
A13: 2080505 | B13: 机关事业单位基本养老保险缴费支出 | C13: 2533.26 | E13: 875.21 | F13: 875.21 | J13: 1658.05
A14: 2080506 | B14: 机关事业单位职业年金缴费支出 | C14: 972.93 | E14: 358.4 | F14: 358.4 | J14: 614.53
A15: 08 | B15: 抚恤 | C15: 46.52 | E15: 44.78 | F15: 44.78 | J15: 1.74
A16: 2080801 | B16: 死亡抚恤 | C16: 46.52 | E16: 44.78 | F16: 44.78 | J16: 1.74
A17: 210 | B17: 卫生健康支出 | C17: 124892.59 | D17: 25 | E17: 12479.36 | F17: 12479.36 | J17: 101881.61 | L17: 5702.64 | N17: 4803.98
A18: 01 | B18: 卫生健康管理事务 | C18: 20 | E18: 20 | F18: 20
A19: 2100199 | B19: 其他卫生健康管理事务支出 | C19: 20 | E19: 20 | F19: 20
A20: 02 | B20: 公立医院 | C20: 86189.29 | E20: 2937.76 | F20: 2937.76 | J20: 80151.53 | L20: 3000 | N20: 100
A21: 2100201 | B21: 综合医院 | C21: 49641.65 | E21: 1895.51 | F21: 1895.51 | J21: 44746.14 | L21: 3000
A22: 2100202 | B22: 中医（民族）医院 | C22: 23883.92 | E22: 613.17 | F22: 613.17 | J22: 23170.75 | N22: 100
A23: 2100206 | B23: 妇幼保健医院 | C23: 12663.72 | E23: 429.08 | F23: 429.08 | J23: 12234.64
A24: 03 | B24: 基层医疗卫生机构 | C24: 22896.56 | E24: 4414.23 | F24: 4414.23 | J24: 17443.44 | L24: 1038.89
A25: 2100302 | B25: 乡镇卫生院 | C25: 21458.05 | E25: 3930.21 | F25: 3930.21 | J25: 17443.44 | L25: 84.4
A26: 2100399 | B26: 其他基层医疗卫生机构支出 | C26: 1438.51 | E26: 484.02 | F26: 484.02 | L26: 954.49
A27: 04 | B27: 公共卫生 | C27: 11543.13 | D27: 25 | E27: 2797.22 | F27: 2797.22 | J27: 3549.89 | L27: 516.54 | N27: 4654.48
A28: 2100401 | B28: 疾病预防控制机构 | C28: 4330.39 | E28: 775.32 | F28: 775.32 | J28: 3255.97 | L28: 299.1
A29: 2100402 | B29: 卫生监督机构 | C29: 298.99 | E29: 60.7 | F29: 60.7 | J29: 208.29 | N29: 30
A30: 2100407 | B30: 其他专业公共卫生机构 | C30: 1817.67 | D30: 25 | E30: 1675.67 | F30: 1675.67 | L30: 87 | N30: 30
A31: 2100408 | B31: 基本公共卫生服务 | C31: 4664.2 | E31: 204.49 | F31: 204.49 | J31: 85.63 | N31: 4374.08
A32: 2100409 | B32: 重大公共卫生服务 | C32: 271.84 | L32: 89.44 | N32: 182.4
A33: 2100499 | B33: 其他公共卫生支出 | C33: 160.04 | E33: 81.04 | F33: 81.04 | L33: 41 | N33: 38
A34: 06 | B34: 中医药 | C34: 40 | N34: 40
A35: 2100601 | B35: 中医（民族医）药专项 | C35: 40 | N35: 40
A36: 07 | B36: 计划生育事务 | C36: 2874.71 | E36: 1696.11 | F36: 1696.11 | J36: 37.7 | L36: 1135.4 | N36: 5.5
A37: 2100717 | B37: 计划生育服务 | C37: 1714.69 | E37: 573.39 | F37: 573.39 | J37: 37.7 | L37: 1103.6
A38: 2100799 | B38: 其他计划生育事务支出 | C38: 1160.02 | E38: 1122.72 | F38: 1122.72 | L38: 31.8 | N38: 5.5
A39: 11 | B39: 行政事业单位医疗 | C39: 1291.16 | E39: 578.61 | F39: 578.61 | J39: 699.05 | L39: 9.5 | N39: 4
A40: 2101101 | B40: 行政单位医疗 | C40: 72.79 | E40: 72.79 | F40: 72.79
A41: 2101102 | B41: 事业单位医疗 | C41: 1134.86 | E41: 437.67 | F41: 437.67 | J41: 683.69 | L41: 9.5 | N41: 4
...

Sheet 部门支出总表
A2: 部门支出总表
A3: 填报单位:169兴国县卫生健康委员会（部门） , 169001兴国县卫生健康委员会 , 169003兴国县疾病预防控制中心 , 169004兴国县卫生计生综合监督执法局 , 169005兴国县人民医院 , 169006兴国县中医院 , 169007兴国县妇幼保健和计划生育服务中心 , 169008兴国县皮肤病性病防治所 , 169010兴国县中等卫生职业技术学校 , 169012兴国县爱国卫生运动委员会办公室 , 169014兴国县肺科医院 , 169015兴国县乡镇卫生院汇总 , 169016潋江卫生院 , 169017长冈卫生院 , 169018鼎龙卫生院 , 169019城岗卫生院 , 169020良村卫生院 , 169021南坑卫生院 , 169022枫边卫生院 , 169023崇贤卫生院 , 169024方太卫生院 , 169025高兴卫生院 , 169026茶园卫生院 , 169027均村卫生院 , 169028永丰卫生院 , 169029隆坪卫生院 , 169030埠头卫生院 , 169031龙口卫生院 , 169032社富卫生院 , 169033杰村卫生院 , 169034江背卫生院 , 169035东村卫生院 , 169036兴莲卫生院 , 169037樟木卫生院 , 169038古龙岗卫生院 , 169039梅窖卫生院 , 169040兴江卫生院 , 169044兴国县计划生育协会 , 169045兴国县老龄工作委员会 | H3: 单位：万元
A4: 支出功能分类科目 | C4: 合计 | D4: 基本支出 | E4: 项目支出 | F4: 事业单位经营支出 | G4: 上缴上级支出 | H4: 对附属单位补助支出
A5: 科目编码 | B5: 科目名称
A6: ** | B6: ** | C6: 1 | D6: =C6+1 -> 2 | E6: =D6+1 -> 3 | F6: =E6+1 -> 4 | G6: =F6+1 -> 5 | H6: =G6+1 -> 6
B7: 合计 | C7: 130324.67 | D7: 98170.92 | E7: 32153.75
A8: 205 | B8: 教育支出 | C8: 304.9 | D8: 108.1 | E8: 196.8
A9: 03 | B9: 职业教育 | C9: 304.9 | D9: 108.1 | E9: 196.8
A10: 2050302 | B10: 中等职业教育 | C10: 304.9 | D10: 108.1 | E10: 196.8
A11: 208 | B11: 社会保障和就业支出 | C11: 3552.71 | D11: 3527.59 | E11: 25.12
A12: 05 | B12: 行政事业单位养老支出 | C12: 3506.19 | D12: 3481.07 | E12: 25.12
A13: 2080505 | B13: 机关事业单位基本养老保险缴费支出 | C13: 2533.26 | D13: 2518.24 | E13: 15.02
A14: 2080506 | B14: 机关事业单位职业年金缴费支出 | C14: 972.93 | D14: 962.83 | E14: 10.1
A15: 08 | B15: 抚恤 | C15: 46.52 | D15: 46.52
A16: 2080801 | B16: 死亡抚恤 | C16: 46.52 | D16: 46.52
A17: 210 | B17: 卫生健康支出 | C17: 124892.59 | D17: 93086.24 | E17: 31806.35
A18: 01 | B18: 卫生健康管理事务 | C18: 20 | E18: 20
A19: 2100199 | B19: 其他卫生健康管理事务支出 | C19: 20 | E19: 20
A20: 02 | B20: 公立医院 | C20: 86189.29 | D20: 68545.62 | E20: 17643.67
A21: 2100201 | B21: 综合医院 | C21: 49641.65 | D21: 42759.68 | E21: 6881.97
A22: 2100202 | B22: 中医（民族）医院 | C22: 23883.92 | D22: 18827.92 | E22: 5056
A23: 2100206 | B23: 妇幼保健医院 | C23: 12663.72 | D23: 6958.02 | E23: 5705.7
A24: 03 | B24: 基层医疗卫生机构 | C24: 22896.56 | D24: 17506.64 | E24: 5389.92
A25: 2100302 | B25: 乡镇卫生院 | C25: 21458.05 | D25: 17506.64 | E25: 3951.41
A26: 2100399 | B26: 其他基层医疗卫生机构支出 | C26: 1438.51 | E26: 1438.51
A27: 04 | B27: 公共卫生 | C27: 11543.13 | D27: 4003.15 | E27: 7539.98
A28: 2100401 | B28: 疾病预防控制机构 | C28: 4330.39 | D28: 3631.69 | E28: 698.7
A29: 2100402 | B29: 卫生监督机构 | C29: 298.99 | D29: 283.99 | E29: 15
A30: 2100407 | B30: 其他专业公共卫生机构 | C30: 1817.67 | D30: 87.47 | E30: 1730.2
A31: 2100408 | B31: 基本公共卫生服务 | C31: 4664.2 | E31: 4664.2
A32: 2100409 | B32: 重大公共卫生服务 | C32: 271.84 | E32: 271.84
A33: 2100499 | B33: 其他公共卫生支出 | C33: 160.04 | E33: 160.04
A34: 06 | B34: 中医药 | C34: 40 | E34: 40
A35: 2100601 | B35: 中医（民族医）药专项 | C35: 40 | E35: 40
A36: 07 | B36: 计划生育事务 | C36: 2874.71 | D36: 1740.69 | E36: 1134.02
A37: 2100717 | B37: 计划生育服务 | C37: 1714.69 | D37: 1651.09 | E37: 63.6
A38: 2100799 | B38: 其他计划生育事务支出 | C38: 1160.02 | D38: 89.6 | E38: 1070.42
A39: 11 | B39: 行政事业单位医疗 | C39: 1291.16 | D39: 1270.71 | E39: 20.45
A40: 2101101 | B40: 行政单位医疗 | C40: 72.79 | D40: 72.79
A41: 2101102 | B41: 事业单位医疗 | C41: 1134.86 | D41: 1114.41 | E41: 20.45
...

Sheet 财拨收支总表
A2: 财政拨款收支总表
A3: 填报单位:169兴国县卫生健康委员会（部门） , 169001兴国县卫生健康委员会 , 169003兴国县疾病预防控制中心 , 169004兴国县卫生计生综合监督执法局 , 169005兴国县人民医院 , 169006兴国县中医院 , 169007兴国县妇幼保健和计划生育服务中心 , 169008兴国县皮肤病性病防治所 , 169010兴国县中等卫生职业技术学校 , 169012兴国县爱国卫生运动委员会办公室 , 169014兴国县肺科医院 , 169015兴国县乡镇卫生院汇总 , 169016潋江卫生院 , 169017长冈卫生院 , 169018鼎龙卫生院 , 169019城岗卫生院 , 169020良村卫生院 , 169021南坑卫生院 , 169022枫边卫生院 , 169023崇贤卫生院 , 169024方太卫生院 , 169025高兴卫生院 , 169026茶园卫生院 , 169027均村卫生院 , 169028永丰卫生院 , 169029隆坪卫生院 , 169030埠头卫生院 , 169031龙口卫生院 , 169032社富卫生院 , 169033杰村卫生院 , 169034江背卫生院 , 169035东村卫生院 , 169036兴莲卫生院 , 169037樟木卫生院 , 169038古龙岗卫生院 , 169039梅窖卫生院 , 169040兴江卫生院 , 169044兴国县计划生育协会 , 169045兴国县老龄工作委员会 | F3: 单位：万元
A4: 收 入 | C4: 支出
A5: 项目 | B5: 预算数 | C5: 项目(按支出功能科目类级) | D5: 合计 | E5: 一般公共预算支出 | F5: 政府性基金预算支出
A6: 一、财政拨款收入 | B6: 14022.32 | C6: 一、本年支出 | D6: ='财拨总表（引用）'!B7 -> 14022.32 | E6: ='财拨总表（引用）'!C7 -> 14022.32 | F6: ='财拨总表（引用）'!D7 -> 0
A7: 一般公共预算拨款收入 | B7: 14022.32 | C7: ='财拨总表（引用）'!A8 -> 教育支出 | D7: ='财拨总表（引用）'!B8 -> 103.35 | E7: ='财拨总表（引用）'!C8 -> 103.35 | F7: ='财拨总表（引用）'!D8 -> 0
A8: 专项收入 | C8: ='财拨总表（引用）'!A9 -> 社会保障和就业支出 | D8: ='财拨总表（引用）'!B9 -> 1278.39 | E8: ='财拨总表（引用）'!C9 -> 1278.39 | F8: ='财拨总表（引用）'!D9 -> 0
A9: 政府性基金预算拨款收入 | C9: ='财拨总表（引用）'!A10 -> 卫生健康支出 | D9: ='财拨总表（引用）'!B10 -> 12479.36 | E9: ='财拨总表（引用）'!C10 -> 12479.36 | F9: ='财拨总表（引用）'!D10 -> 0
A10: 预算内投资收入 | C10: ='财拨总表（引用）'!A11 -> 住房保障支出 | D10: ='财拨总表（引用）'!B11 -> 161.22 | E10: ='财拨总表（引用）'!C11 -> 161.22 | F10: ='财拨总表（引用）'!D11 -> 0
A11: 二、上年结转 | C11: 二、结转下年
A12: 一般公共预算拨款结转
A13: 政府性基金预算拨款结转
A16: 收入总计 | B16: =B6 -> 14022.32 | C16: 支出总计 | D16: ='财拨总表（引用）'!B7 -> 14022.32 | E16: ='财拨总表（引用）'!C7 -> 14022.32 | F16: ='财拨总表（引用）'!D7 -> 0
AG46: 0
Z84: 0

Sheet 一般公共预算支出表
A2: 一般公共预算支出表
A3: 填报单位:169兴国县卫生健康委员会（部门） , 169001兴国县卫生健康委员会 , 169003兴国县疾病预防控制中心 , 169004兴国县卫生计生综合监督执法局 , 169005兴国县人民医院 , 169006兴国县中医院 , 169007兴国县妇幼保健和计划生育服务中心 , 169008兴国县皮肤病性病防治所 , 169010兴国县中等卫生职业技术学校 , 169012兴国县爱国卫生运动委员会办公室 , 169014兴国县肺科医院 , 169015兴国县乡镇卫生院汇总 , 169016潋江卫生院 , 169017长冈卫生院 , 169018鼎龙卫生院 , 169019城岗卫生院 , 169020良村卫生院 , 169021南坑卫生院 , 169022枫边卫生院 , 169023崇贤卫生院 , 169024方太卫生院 , 169025高兴卫生院 , 169026茶园卫生院 , 169027均村卫生院 , 169028永丰卫生院 , 169029隆坪卫生院 , 169030埠头卫生院 , 169031龙口卫生院 , 169032社富卫生院 , 169033杰村卫生院 , 169034江背卫生院 , 169035东村卫生院 , 169036兴莲卫生院 , 169037樟木卫生院 , 169038古龙岗卫生院 , 169039梅窖卫生院 , 169040兴江卫生院 , 169044兴国县计划生育协会 , 169045兴国县老龄工作委员会 | E3: 单位：万元
A4: 支出功能分类科目 | C4: 预算数
A5: 科目编码 | B5: 科目名称 | C5: 合计 | D5: 基本支出 | E5: 项目支出
A6: ** | B6: ** | C6: 1 | D6: =C6+1 -> 2 | E6: =D6+1 -> 3
B7: 合计 | C7: 14022.32 | D7: 9069.45 | E7: 4952.87
A8: 205 | B8: 教育支出 | C8: 103.35 | D8: 103.35
A9: 03 | B9: 职业教育 | C9: 103.35 | D9: 103.35
A10: 2050302 | B10: 中等职业教育 | C10: 103.35 | D10: 103.35
A11: 208 | B11: 社会保障和就业支出 | C11: 1278.39 | D11: 1278.39
A12: 05 | B12: 行政事业单位养老支出 | C12: 1233.61 | D12: 1233.61
A13: 2080505 | B13: 机关事业单位基本养老保险缴费支出 | C13: 875.21 | D13: 875.21
A14: 2080506 | B14: 机关事业单位职业年金缴费支出 | C14: 358.4 | D14: 358.4
A15: 08 | B15: 抚恤 | C15: 44.78 | D15: 44.78
A16: 2080801 | B16: 死亡抚恤 | C16: 44.78 | D16: 44.78
A17: 210 | B17: 卫生健康支出 | C17: 12479.36 | D17: 7526.49 | E17: 4952.87
A18: 01 | B18: 卫生健康管理事务 | C18: 20 | E18: 20
A19: 2100199 | B19: 其他卫生健康管理事务支出 | C19: 20 | E19: 20
A20: 02 | B20: 公立医院 | C20: 2937.76 | D20: 2002.06 | E20: 935.7
A21: 2100201 | B21: 综合医院 | C21: 1895.51 | D21: 1173.51 | E21: 722
A22: 2100202 | B22: 中医（民族）医院 | C22: 613.17 | D22: 470.17 | E22: 143
A23: 2100206 | B23: 妇幼保健医院 | C23: 429.08 | D23: 358.38 | E23: 70.7
A24: 03 | B24: 基层医疗卫生机构 | C24: 4414.23 | D24: 3680.21 | E24: 734.02
A25: 2100302 | B25: 乡镇卫生院 | C25: 3930.21 | D25: 3680.21 | E25: 250
A26: 2100399 | B26: 其他基层医疗卫生机构支出 | C26: 484.02 | E26: 484.02
A27: 04 | B27: 公共卫生 | C27: 2797.22 | D27: 620.49 | E27: 2176.73
A28: 2100401 | B28: 疾病预防控制机构 | C28: 775.32 | D28: 540.32 | E28: 235
A29: 2100402 | B29: 卫生监督机构 | C29: 60.7 | D29: 45.7 | E29: 15
A30: 2100407 | B30: 其他专业公共卫生机构 | C30: 1675.67 | D30: 34.47 | E30: 1641.2
A31: 2100408 | B31: 基本公共卫生服务 | C31: 204.49 | E31: 204.49
A32: 2100499 | B32: 其他公共卫生支出 | C32: 81.04 | E32: 81.04
A33: 07 | B33: 计划生育事务 | C33: 1696.11 | D33: 625.69 | E33: 1070.42
A34: 2100717 | B34: 计划生育服务 | C34: 573.39 | D34: 573.39
A35: 2100799 | B35: 其他计划生育事务支出 | C35: 1122.72 | D35: 52.3 | E35: 1070.42
A36: 11 | B36: 行政事业单位医疗 | C36: 578.61 | D36: 578.61
A37: 2101101 | B37: 行政单位医疗 | C37: 72.79 | D37: 72.79
A38: 2101102 | B38: 事业单位医疗 | C38: 437.67 | D38: 437.67
A39: 2101103 | B39: 公务员医疗补助 | C39: 68.15 | D39: 68.15
A40: 16 | B40: 老龄卫生健康事务 | C40: 35.43 | D40: 19.43 | E40: 16
A41: 2101601 | B41: 老龄卫生健康事务 | C41: 35.43 | D41: 19.43 | E41: 16
...

Sheet 一般公共预算基本支出表
A2: 一般公共预算基本支出表
A3: 填报单位:169兴国县卫生健康委员会（部门） , 169001兴国县卫生健康委员会 , 169003兴国县疾病预防控制中心 , 169004兴国县卫生计生综合监督执法局 , 169005兴国县人民医院 , 169006兴国县中医院 , 169007兴国县妇幼保健和计划生育服务中心 , 169008兴国县皮肤病性病防治所 , 169010兴国县中等卫生职业技术学校 , 169012兴国县爱国卫生运动委员会办公室 , 169014兴国县肺科医院 , 169015兴国县乡镇卫生院汇总 , 169016潋江卫生院 , 169017长冈卫生院 , 169018鼎龙卫生院 , 169019城岗卫生院 , 169020良村卫生院 , 169021南坑卫生院 , 169022枫边卫生院 , 169023崇贤卫生院 , 169024方太卫生院 , 169025高兴卫生院 , 169026茶园卫生院 , 169027均村卫生院 , 169028永丰卫生院 , 169029隆坪卫生院 , 169030埠头卫生院 , 169031龙口卫生院 , 169032社富卫生院 , 169033杰村卫生院 , 169034江背卫生院 , 169035东村卫生院 , 169036兴莲卫生院 , 169037樟木卫生院 , 169038古龙岗卫生院 , 169039梅窖卫生院 , 169040兴江卫生院 , 169044兴国县计划生育协会 , 169045兴国县老龄工作委员会 | E3: 单位：万元
A4: 支出经济分类科目 | C4: 基本支出
A5: 科目编码 | B5: 科目名称 | C5: 合计 | D5: 人员经费 | E5: 公用经费
A6: ** | B6: ** | C6: 1 | D6: =C6+1 -> 2 | E6: =D6+1 -> 3
B7: 合计 | C7: 9069.45 | D7: 8982.33 | E7: 87.12
B8: 工资福利支出 | C8: 8935.09 | D8: 8935.09
A9: 30101 | B9: 基本工资 | C9: 5118.72 | D9: 5118.72
A10: 3010201 | B10: 行政单位津补贴 | C10: 103.27 | D10: 103.27
A11: 3010202 | B11: 事业单位津补贴 | C11: 293.04 | D11: 293.04
A12: 30103 | B12: 奖金 | C12: 81.58 | D12: 81.58
A13: 30106 | B13: 伙食补助费 | C13: 45.63 | D13: 45.63
A14: 30107 | B14: 绩效工资 | C14: 1391.35 | D14: 1391.35
A15: 30108 | B15: 机关事业单位基本养老保险缴费 | C15: 792.21 | D15: 792.21
A16: 30109 | B16: 职业年金缴费 | C16: 362.1 | D16: 362.1
A17: 30110 | B17: 职工基本医疗保险缴费 | C17: 510.46 | D17: 510.46
A18: 30111 | B18: 公务员医疗补助缴费 | C18: 68.15 | D18: 68.15
A19: 30113 | B19: 住房公积金 | C19: 168.58 | D19: 168.58
B20: 商品和服务支出 | C20: 87.12 | E20: 87.12
A21: 30201 | B21: 办公费 | C21: 21.92 | E21: 21.92
A22: 30202 | B22: 印刷费 | C22: 2 | E22: 2
A23: 30205 | B23: 水费 | C23: 0.03 | E23: 0.03
A24: 30206 | B24: 电费 | C24: 0.1 | E24: 0.1
A25: 30207 | B25: 邮电费 | C25: 0.15 | E25: 0.15
A26: 30208 | B26: 取暖费 | C26: 1.54 | E26: 1.54
A27: 30211 | B27: 差旅费 | C27: 3.8 | E27: 3.8
A28: 30213 | B28: 维修（护）费 | C28: 0.55 | E28: 0.55
A29: 30216 | B29: 培训费 | C29: 1 | E29: 1
A30: 30217 | B30: 公务接待费 | C30: 24.6 | E30: 24.6
A31: 30225 | B31: 专用燃料费 | C31: 0.3 | E31: 0.3
A32: 30228 | B32: 工会经费 | C32: 2.56 | E32: 2.56
... A36: 3029999 | B36: 其他其他商品和服务支出 | C36: 0.65 | E36: 0.65
B37: 对个人和家庭的补助 | C37: 47.24 | D37: 47.24
A38: 3030501 | B38: 遗嘱补助 | C38: 47.24 | D38: 47.24

Sheet 三公表
A2: '三公'经费支出表
A3: 填报单位:169兴国县卫生健康委员会（部门） , 169001兴国县卫生健康委员会 , 169003兴国县疾病预防控制中心 , 169004兴国县卫生计生综合监督执法局 , 169005兴国县人民医院 , 169006兴国县中医院 , 169007兴国县妇幼保健和计划生育服务中心 , 169008兴国县皮肤病性病防治所 , 169010兴国县中等卫生职业技术学校 , 169012兴国县爱国卫生运动委员会办公室 , 169014兴国县肺科医院 , 169015兴国县乡镇卫生院汇总 , 169016潋江卫生院 , 169017长冈卫生院 , 169018鼎龙卫生院 , 169019城岗卫生院 , 169020良村卫生院 , 169021南坑卫生院 , 169022枫边卫生院 , 169023崇贤卫生院 , 169024方太卫生院 , 169025高兴卫生院 , 169026茶园卫生院 , 169027均村卫生院 , 169028永丰卫生院 , 169029隆坪卫生院 , 169030埠头卫生院 , 169031龙口卫生院 , 169032社富卫生院 , 169033杰村卫生院 , 169034江背卫生院 , 169035东村卫生院 , 169036兴莲卫生院 , 169037樟木卫生院 , 169038古龙岗卫生院 , 169039梅窖卫生院 , 169040兴江卫生院 , 169044兴国县计划生育协会 , 169045兴国县老龄工作委员会 | G3: 单位：万元
A4: 单位编码 | B4: 单位名称 | C4: 合计 | D4: 因公出国(境)费 | E4: 公务接待费 | F4: 公务用车运行维护费 | G4: 公务用车购置
A5: ** | B5: ** | C5: 1 | D5: =C5+1 -> 2 | E5: =D5+1 -> 3 | F5: =E5+1 -> 4 | G5: =F5+1 -> 5
C6: 727.45 | D6: 12 | E6: 396.44 | F6: 259.01 | G6: 60
A7: 169 | B7: 兴国县卫生健康委员会（部门） | C7: 727.45 | D7: 12 | E7: 396.44 | F7: 259.01 | G7: 60

Sheet 政府性基金
A2: 政府性基金预算支出表
A3: 填报单位:169兴国县卫生健康委员会（部门） , 169001兴国县卫生健康委员会 , 169003兴国县疾病预防控制中心 , 169004兴国县卫生计生综合监督执法局 , 169005兴国县人民医院 , 169006兴国县中医院 , 169007兴国县妇幼保健和计划生育服务中心 , 169008兴国县皮肤病性病防治所 , 169010兴国县中等卫生职业技术学校 , 169012兴国县爱国卫生运动委员会办公室 , 169014兴国县肺科医院 , 169015兴国县乡镇卫生院汇总 , 169016潋江卫生院 , 169017长冈卫生院 , 169018鼎龙卫生院 , 169019城岗卫生院 , 169020良村卫生院 , 169021南坑卫生院 , 169022枫边卫生院 , 169023崇贤卫生院 , 169024方太卫生院 , 169025高兴卫生院 , 169026茶园卫生院 , 169027均村卫生院 , 169028永丰卫生院 , 169029隆坪卫生院 , 169030埠头卫生院 , 169031龙口卫生院 , 169032社富卫生院 , 169033杰村卫生院 , 169034江背卫生院 , 169035东村卫生院 , 169036兴莲卫生院 , 169037樟木卫生院 , 169038古龙岗卫生院 , 169039梅窖卫生院 , 169040兴江卫生院 , 169044兴国县计划生育协会 , 169045兴国县老龄工作委员会 | E3: 单位：万元
A4: 支出功能分类科目 | C4: 预算数
A5: 科目编码 | B5: 科目名称 | C5: 合计 | D5: 基本支出 | E5: 项目支出
A6: ** | B6: ** | C6: 1 | D6: =C6+1 -> 2 | E6: =D6+1 -> 3

Sheet 部门支出整体绩效目标表
A1: 部门公开表9
A2: 2021年部门整体支出绩效目标表
A3: 部门名称 | B3: 兴国县卫生健康委员会
A4: 联系人 | B4: 刘熙荣 | G4: 联系电话 | H4: 13657078818
A5: 部门基本信息
A6: 部门所属领域 | D6: 卫生健康 | G6: 直属单位包括 | I6: 兴国县卫生健康综合监督执法局、兴国县疾病预防控制中心、兴国县卫生健康服务中心、兴国县计划生育协会、兴国县中等卫生职业技术学校、兴国县中医院、兴国县人民医院、兴国县结核病防治所、兴国县皮肤病防治所、兴国县妇幼保健计划生育服务中心、兴国县潋江镇卫生院、兴国县长冈乡中心卫生院、兴国县高兴镇中心卫生院、兴国县江背镇卫生院、兴国县良村镇卫生院、兴国县龙口镇卫生院、兴国县梅窖镇卫生院、兴国县鼎龙乡卫生院、兴国县古龙岗镇中心卫生院、兴国县南坑乡卫生院、兴国县方太乡卫生院、兴国县城岗镇中心卫生院、兴国县枫边乡卫生院、兴国县崇贤乡卫生院、兴国县茶园乡卫生院、兴国县隆坪乡卫生院、兴国县均村乡中心卫生院、兴国县永丰镇卫生院、兴国县埠头乡卫生院、兴国县社富乡中心卫生院、兴国县杰村乡卫生院、兴国县兴莲乡卫生院、兴国县东村乡卫生院、兴国县樟木乡卫生院、兴国县兴江乡卫生院
A7: 内设职能部门 | D7: 人事秘书股、规划发展与信息化股、财务审计股、政策法规与综合监督股、疾病预防控制股、医政医管药政和体改股、中医药股、基层卫生健康股、人口监测与家庭发展股、妇幼健康股、爱国卫生运动委员会办公室、宣传股 | G7: 编制控制数 | I7: 2023
A8: 在职人员总数 | D8: 2335 | G8: 其中：行政编制人数 | I8: 30
A9: 事业编制人数 | D9: 1993 | G9: 编外人数 | I9: 312
A10: 当年预算情况（万元）
A11: 收入预算合计 | D11: 130324.67 | G11: 其中：上级财政拨款
A12: 本级财政安排 | D12: 14022.32 | G12: 其他资金
A13: 支出预算合计 | D13: 130324.67 | G13: 其中：人员经费 | I13: 8982.33
A14: 公用经费 | D14: 87.12 | G14: 项目经费 | I14: 4952.87
A15: 年度绩效指标
A16: 一级指标 | D16: 二级指标 | F16: 三级指标 | I16: 目标值
A17: 产出指标 | D17: 数量指标 | F17: 项目实施乡镇数量 | I17: 25个
D18: 数量指标 | F18: 给予全县年满60周岁且从业满20年的乡村医生发放养老生活补贴 | I18: 491人
D19: 质量指标 | F19: 居民健康档案规范化电子建档率 | I19: ≥75%
D20: 质量指标 | F20: 符合奖励和扶助申报对象覆盖率 | I20: =100%
D21: 时效指标 | F21: 项目资金到位及时率 | I21: =100%
D22: 成本指标
A23: 效益指标 | D23: 经济效益指标
D24: 社会效益指标 | F24: 稳定乡村医生队伍 | I24: 持续稳定
D25: 社会效益指标 | F25: 公立医院医疗服务能力 | I25: 稳步提升
D26: 生态效益指标
D27: 可持续影响指标 | F27: 乡村医生养老保障水平 | I27: 不断提高
D28: 可持续影响指标 | F28: 居民健康水平提高 | I28: 不断提高
D29: 可持续影响指标 | F29: 社会稳定水平 | I29: 保持稳定
A30: 满意度指标 | D30: 满意度指标 | F30: 服务对象满意度 | I30: ≥95%

Sheet 项目支出绩效目标申报表
A1: 部门公开表10
A2: 项目支出绩效目标表
A3: （ 2021年度）
A4: 项目名称 | C4: 基本公共卫生服务县配套204.49万元；乡镇卫生院药品零差价销售150万元；60周岁以上乡村医生养老补助县配套153.22万元；乡村医生防疫津贴县配套27万元；城乡居民独生子女奖励费180万元；公立医院改革药品零差价补助县配套90万元；全县农村中小学水质监测及食堂从业人员体检费30万元；免疫规划经费75万元；全县卫生检测服务费70万元；婚前免费体检78.76万元；公立医院设备购置200万元；计划生育利益导向县级补助881.42万元；入校新生结核病筛查43.2万元；疾病预防控制机构工作经费60万元；乡村医疗试点机构基础建设和更新医疗设备200万元；爱卫办病媒生物防治60万元；37个空白村卫生室乡村医生补助88.8万元；
A5: 主管部门及代码 | C5: 兴国县卫生健康委员会 | E5: 实施单位 | G5: 兴国县卫生健康委员会
A6: 项目属性 | E6: 项目日期范围 | G6: 44197
G7: 44561
A8: 项目资金 （万元） | C8: 年度资金总额 | E8: 2591.89
C9: 其中：财政拨款 | E9: 2591.89
C10: 其他资金
A11: 总 体 目 标 | B11: 年度绩效目标
B12: 保证公立医疗机构健康有序发展，减轻人民医疗负担，提升群众身体健康水平，保障人民生命安全。
A13: 一级指标 | B13: 二级指标 | C13: 三级指标 | G13: 指标值
A14: 产出指标 | B14: 数量指标 | C14: 项目实施乡镇数量 | G14: 25个
B15: 数量指标 | C15: 给予全县年满60周岁且从业满20年的乡村医生发放养老生活补贴 | G15: 491人
B16: 质量指标 | C16: 居民健康档案规范化电子建档率 | G16: ≥75%
B17: 质量指标 | C17: 符合奖励和扶助申报对象覆盖率 | G17: =100%
B18: 时效指标 | C18: 项目资金到位及时率 | G18: =100%
B19: 成本指标
A20: 效益指标 | B20: 经济效益指标
B21: 社会效益指标 | C21: 稳定乡村医生队伍 | G21: 持续稳定
B22: 社会效益指标 | C22: 公立医院医疗服务能力 | G22: 稳步提升
B23: 生态效益指标
B24: 可持续影响指标 | C24: 乡村医生养老保障水平 | G24: 不断提高
B25: 可持续影响指标 | C25: 居民健康水平提高 | G25: 不断提高
B26: 可持续影响指标 | C26: 社会稳定水平 | G26: 保持稳定
A27: 满意度指标 | B27: 满意度指标 | C27: 服务对象满意度 | G27: ≥95%

Sheet 支出总表（引用）
A2: 支出预算总表
A4: 科目名称 | B4: 合计 | C4: 结转下年
A6: ** | B6: 1 | C6: 2
A7: 合计 | B7: 130324.67
A8: 教育支出 | B8: 304.9
A9: 社会保障和就业支出 | B9: 3552.71
A10: 卫生健康支出 | B10: 124892.59
A11: 住房保障支出 | B11: 1574.47

Sheet 财拨总表（引用）
A2: 财政拨款预算表
A4: 科目名称 | B4: 财政拨款 | C4: 一般公共预算支出 | D4: 政府性基金预算支出
A6: ** | B6: 1 | C6: 2 | D6: 3
B7: 14022.32 | C7: 14022.32
A8: 教育支出 | B8: 103.35 | C8: 103.35
A9: 社会保障和就业支出 | B9: 1278.39 | C9: 1278.39
A10: 卫生健康支出 | B10: 12479.36 | C10: 12479.36
A11: 住房保障支出 | B11: 161.22 | C11: 161.22
